BEGIN:VCALENDAR
VERSION:2.0
PRODID:-//Leamington Yoga Instructors Therapy Classes - The Heart of Yoga - ECPv4.5.13//NONSGML v1.0//EN
CALSCALE:GREGORIAN
METHOD:PUBLISH
X-WR-CALNAME:Leamington Yoga Instructors Therapy Classes - The Heart of Yoga
X-ORIGINAL-URL:https://leamingtonyogacentre.co.uk
X-WR-CALDESC:Events for Leamington Yoga Instructors Therapy Classes - The Heart of Yoga
BEGIN:VEVENT
DTSTART;TZID=Europe/London:20260312T163000
DTEND;TZID=Europe/London:20260312T173000
DTSTAMP:20260425T235744
CREATED:20260104T152351Z
LAST-MODIFIED:20260104T152351Z
UID:19012-1773333000-1773336600@leamingtonyogacentre.co.uk
SUMMARY:Back Care Yoga
DESCRIPTION:
URL:https://leamingtonyogacentre.co.uk/event/back-care-yoga-1124/
LOCATION:15 Dormer Place\, Leamington Spa\, Warwickshire\, CV32 5AA\, United Kingdom
END:VEVENT
BEGIN:VEVENT
DTSTART;TZID=Europe/London:20260312T180000
DTEND;TZID=Europe/London:20260312T190000
DTSTAMP:20260425T235744
CREATED:20260105T140659Z
LAST-MODIFIED:20260105T140659Z
UID:19040-1773338400-1773342000@leamingtonyogacentre.co.uk
SUMMARY:Hatha Hour
DESCRIPTION:
URL:https://leamingtonyogacentre.co.uk/event/hatha-hour-1997/
LOCATION:15 Dormer Place\, Leamington Spa\, Warwickshire\, CV32 5AA\, United Kingdom
END:VEVENT
BEGIN:VEVENT
DTSTART;TZID=Europe/London:20260312T193000
DTEND;TZID=Europe/London:20260312T203000
DTSTAMP:20260425T235744
CREATED:20260105T171711Z
LAST-MODIFIED:20260105T171711Z
UID:19103-1773343800-1773347400@leamingtonyogacentre.co.uk
SUMMARY:Dynamic Hatha Yoga
DESCRIPTION:
URL:https://leamingtonyogacentre.co.uk/event/dynamic-hatha-yoga-617/
LOCATION:Warwickshire
END:VEVENT
END:VCALENDAR