BEGIN:VCALENDAR
VERSION:2.0
PRODID:-//Leamington Yoga Instructors Therapy Classes - The Heart of Yoga - ECPv4.5.13//NONSGML v1.0//EN
CALSCALE:GREGORIAN
METHOD:PUBLISH
X-WR-CALNAME:Leamington Yoga Instructors Therapy Classes - The Heart of Yoga
X-ORIGINAL-URL:https://leamingtonyogacentre.co.uk
X-WR-CALDESC:Events for Leamington Yoga Instructors Therapy Classes - The Heart of Yoga
BEGIN:VEVENT
DTSTART;TZID=Europe/London:20251209T163000
DTEND;TZID=Europe/London:20251209T173000
DTSTAMP:20260423T153511
CREATED:20251005T135622Z
LAST-MODIFIED:20251005T135622Z
UID:18628-1765297800-1765301400@leamingtonyogacentre.co.uk
SUMMARY:Back Care Yoga
DESCRIPTION:
URL:https://leamingtonyogacentre.co.uk/event/back-care-yoga-1088/
LOCATION:15 Dormer Place\, Leamington Spa\, Warwickshire\, CV32 5AA\, United Kingdom
END:VEVENT
BEGIN:VEVENT
DTSTART;TZID=Europe/London:20251209T180000
DTEND;TZID=Europe/London:20251209T190000
DTSTAMP:20260423T153511
CREATED:20251013T161819Z
LAST-MODIFIED:20251013T161819Z
UID:18658-1765303200-1765306800@leamingtonyogacentre.co.uk
SUMMARY:Hatha Hour
DESCRIPTION:
URL:https://leamingtonyogacentre.co.uk/event/hatha-hour-1946/
LOCATION:15 Dormer Place\, Leamington Spa\, Warwickshire\, CV32 5AA\, United Kingdom
END:VEVENT
BEGIN:VEVENT
DTSTART;TZID=Europe/London:20251209T193000
DTEND;TZID=Europe/London:20251209T204500
DTSTAMP:20260423T153511
CREATED:20251104T172253Z
LAST-MODIFIED:20251104T172253Z
UID:18720-1765308600-1765313100@leamingtonyogacentre.co.uk
SUMMARY:Dynamic Hatha Yoga
DESCRIPTION:
URL:https://leamingtonyogacentre.co.uk/event/dynamic-hatha-yoga-591/
LOCATION:15 Dormer Place\, Leamington Spa\, Warwickshire\, CV32 5AA\, United Kingdom
END:VEVENT
END:VCALENDAR