BEGIN:VCALENDAR
VERSION:2.0
PRODID:-//Leamington Yoga Instructors Therapy Classes - The Heart of Yoga - ECPv4.5.13//NONSGML v1.0//EN
CALSCALE:GREGORIAN
METHOD:PUBLISH
X-WR-CALNAME:Leamington Yoga Instructors Therapy Classes - The Heart of Yoga
X-ORIGINAL-URL:https://leamingtonyogacentre.co.uk
X-WR-CALDESC:Events for Leamington Yoga Instructors Therapy Classes - The Heart of Yoga
BEGIN:VEVENT
DTSTART;TZID=Europe/London:20251202T163000
DTEND;TZID=Europe/London:20251202T173000
DTSTAMP:20260424T024930
CREATED:20250907T151718Z
LAST-MODIFIED:20250907T154345Z
UID:18513-1764693000-1764696600@leamingtonyogacentre.co.uk
SUMMARY:Back Care Yoga
DESCRIPTION:
URL:https://leamingtonyogacentre.co.uk/event/back-care-yoga-1070/
LOCATION:15 Dormer Place\, Leamington Spa\, Warwickshire\, CV32 5AA\, United Kingdom
END:VEVENT
BEGIN:VEVENT
DTSTART;TZID=Europe/London:20251202T180000
DTEND;TZID=Europe/London:20251202T190000
DTSTAMP:20260424T024930
CREATED:20251012T172845Z
LAST-MODIFIED:20251012T172845Z
UID:18653-1764698400-1764702000@leamingtonyogacentre.co.uk
SUMMARY:Hatha Hour
DESCRIPTION:
URL:https://leamingtonyogacentre.co.uk/event/hatha-hour-1944/
LOCATION:15 Dormer Place\, Leamington Spa\, Warwickshire\, CV32 5AA\, United Kingdom
END:VEVENT
BEGIN:VEVENT
DTSTART;TZID=Europe/London:20251202T193000
DTEND;TZID=Europe/London:20251202T204500
DTSTAMP:20260424T024930
CREATED:20251104T172140Z
LAST-MODIFIED:20251104T172140Z
UID:18717-1764703800-1764708300@leamingtonyogacentre.co.uk
SUMMARY:Dynamic Hatha Yoga
DESCRIPTION:
URL:https://leamingtonyogacentre.co.uk/event/dynamic-hatha-yoga-590/
LOCATION:15 Dormer Place\, Leamington Spa\, Warwickshire\, CV32 5AA\, United Kingdom
END:VEVENT
END:VCALENDAR