BEGIN:VCALENDAR
VERSION:2.0
PRODID:-//Leamington Yoga Instructors Therapy Classes - The Heart of Yoga - ECPv4.5.13//NONSGML v1.0//EN
CALSCALE:GREGORIAN
METHOD:PUBLISH
X-WR-CALNAME:Leamington Yoga Instructors Therapy Classes - The Heart of Yoga
X-ORIGINAL-URL:https://leamingtonyogacentre.co.uk
X-WR-CALDESC:Events for Leamington Yoga Instructors Therapy Classes - The Heart of Yoga
BEGIN:VEVENT
DTSTART;TZID=Europe/London:20241102T070000
DTEND;TZID=Europe/London:20241102T083000
DTSTAMP:20260419T190752
CREATED:20240819T161451Z
LAST-MODIFIED:20240819T161451Z
UID:16633-1730530800-1730536200@leamingtonyogacentre.co.uk
SUMMARY:Morning Yoga Practice
DESCRIPTION:
URL:https://leamingtonyogacentre.co.uk/event/morning-yoga-practice-391/
LOCATION:15 Dormer Place\, Leamington Spa\, Warwickshire\, CV32 5AA\, United Kingdom
END:VEVENT
BEGIN:VEVENT
DTSTART;TZID=Europe/London:20241102T090000
DTEND;TZID=Europe/London:20241102T103000
DTSTAMP:20260419T190752
CREATED:20240819T154838Z
LAST-MODIFIED:20240819T154838Z
UID:16589-1730538000-1730543400@leamingtonyogacentre.co.uk
SUMMARY:Andiappan Yoga
DESCRIPTION:
URL:https://leamingtonyogacentre.co.uk/event/andiappan-yoga-834/
LOCATION:15 Dormer Place\, Leamington Spa\, Warwickshire\, CV32 5AA\, United Kingdom
END:VEVENT
BEGIN:VEVENT
DTSTART;TZID=Europe/London:20241102T110000
DTEND;TZID=Europe/London:20241102T120000
DTSTAMP:20260419T190752
CREATED:20240616T123700Z
LAST-MODIFIED:20240819T154357Z
UID:16257-1730545200-1730548800@leamingtonyogacentre.co.uk
SUMMARY:Hatha Hour
DESCRIPTION:
URL:https://leamingtonyogacentre.co.uk/event/hatha-hour-1661/
LOCATION:1st Floor\, 15 Dormer Place\, Royal Leamington Spa\, Warwickshire\, CV325AA\, United Kingdom
END:VEVENT
BEGIN:VEVENT
DTSTART;TZID=Europe/London:20241102T123000
DTEND;TZID=Europe/London:20241102T133000
DTSTAMP:20260419T190752
CREATED:20240502T075855Z
LAST-MODIFIED:20240814T152949Z
UID:16041-1730550600-1730554200@leamingtonyogacentre.co.uk
SUMMARY:Back Care Yoga
DESCRIPTION:
URL:https://leamingtonyogacentre.co.uk/event/back-care-yoga-875/
LOCATION:15 Dormer Place\, Leamington Spa\, Warwickshire\, CV32 5AA\, United Kingdom
END:VEVENT
END:VCALENDAR