BEGIN:VCALENDAR
VERSION:2.0
PRODID:-//Leamington Yoga Instructors Therapy Classes - The Heart of Yoga - ECPv4.5.13//NONSGML v1.0//EN
CALSCALE:GREGORIAN
METHOD:PUBLISH
X-WR-CALNAME:Leamington Yoga Instructors Therapy Classes - The Heart of Yoga
X-ORIGINAL-URL:https://leamingtonyogacentre.co.uk
X-WR-CALDESC:Events for Leamington Yoga Instructors Therapy Classes - The Heart of Yoga
BEGIN:VEVENT
DTSTART;TZID=Europe/London:20240921T070000
DTEND;TZID=Europe/London:20240921T083000
DTSTAMP:20260419T224734
CREATED:20240705T071337Z
LAST-MODIFIED:20240705T071621Z
UID:16454-1726902000-1726907400@leamingtonyogacentre.co.uk
SUMMARY:Morning Yoga Practice
DESCRIPTION:
URL:https://leamingtonyogacentre.co.uk/event/morning-yoga-practice-378/
LOCATION:15 Dormer Place\, Leamington Spa\, Warwickshire\, CV32 5AA\, United Kingdom
END:VEVENT
BEGIN:VEVENT
DTSTART;TZID=Europe/London:20240921T090000
DTEND;TZID=Europe/London:20240921T103000
DTSTAMP:20260419T224734
CREATED:20240701T150503Z
LAST-MODIFIED:20240701T150503Z
UID:16370-1726909200-1726914600@leamingtonyogacentre.co.uk
SUMMARY:Andiappan Yoga
DESCRIPTION:
URL:https://leamingtonyogacentre.co.uk/event/andiappan-yoga-823/
LOCATION:15 Dormer Place\, Leamington Spa\, Warwickshire\, CV32 5AA\, United Kingdom
END:VEVENT
BEGIN:VEVENT
DTSTART;TZID=Europe/London:20240921T110000
DTEND;TZID=Europe/London:20240921T120000
DTSTAMP:20260419T224734
CREATED:20240701T153636Z
LAST-MODIFIED:20240701T153636Z
UID:16415-1726916400-1726920000@leamingtonyogacentre.co.uk
SUMMARY:Hatha Hour
DESCRIPTION:
URL:https://leamingtonyogacentre.co.uk/event/hatha-hour-1688/
LOCATION:15 Dormer Place\, Leamington Spa\, Warwickshire\, CV32 5AA\, United Kingdom
END:VEVENT
BEGIN:VEVENT
DTSTART;TZID=Europe/London:20240921T123000
DTEND;TZID=Europe/London:20240921T133000
DTSTAMP:20260419T224734
CREATED:20240701T151700Z
LAST-MODIFIED:20240701T151700Z
UID:16393-1726921800-1726925400@leamingtonyogacentre.co.uk
SUMMARY:Back Care Yoga
DESCRIPTION:
URL:https://leamingtonyogacentre.co.uk/event/back-care-yoga-901/
LOCATION:15 Dormer Place\, Leamington Spa\, Warwickshire\, CV32 5AA\, United Kingdom
END:VEVENT
END:VCALENDAR