BEGIN:VCALENDAR
VERSION:2.0
PRODID:-//Leamington Yoga Instructors Therapy Classes - The Heart of Yoga - ECPv4.5.13//NONSGML v1.0//EN
CALSCALE:GREGORIAN
METHOD:PUBLISH
X-WR-CALNAME:Leamington Yoga Instructors Therapy Classes - The Heart of Yoga
X-ORIGINAL-URL:https://leamingtonyogacentre.co.uk
X-WR-CALDESC:Events for Leamington Yoga Instructors Therapy Classes - The Heart of Yoga
BEGIN:VEVENT
DTSTART;TZID=Europe/London:20240611T070000
DTEND;TZID=Europe/London:20240611T080000
DTSTAMP:20260420T041323
CREATED:20240412T084138Z
LAST-MODIFIED:20240412T084138Z
UID:15901-1718089200-1718092800@leamingtonyogacentre.co.uk
SUMMARY:Morning Yoga Practice
DESCRIPTION:
URL:https://leamingtonyogacentre.co.uk/event/morning-yoga-practice-353/
LOCATION:15 Dormer Place\, Leamington Spa\, Warwickshire\, CV32 5AA\, United Kingdom
END:VEVENT
BEGIN:VEVENT
DTSTART;TZID=Europe/London:20240611T163000
DTEND;TZID=Europe/London:20240611T173000
DTSTAMP:20260420T041323
CREATED:20240408T105843Z
LAST-MODIFIED:20240408T105843Z
UID:15869-1718123400-1718127000@leamingtonyogacentre.co.uk
SUMMARY:Back Care Yoga
DESCRIPTION:
URL:https://leamingtonyogacentre.co.uk/event/back-care-yoga-858/
LOCATION:15 Dormer Place\, Leamington Spa\, Warwickshire\, CV32 5AA\, United Kingdom
END:VEVENT
BEGIN:VEVENT
DTSTART;TZID=Europe/London:20240611T180000
DTEND;TZID=Europe/London:20240611T190000
DTSTAMP:20260420T041323
CREATED:20240408T072532Z
LAST-MODIFIED:20240412T084448Z
UID:15829-1718128800-1718132400@leamingtonyogacentre.co.uk
SUMMARY:Hatha Hour
DESCRIPTION:
URL:https://leamingtonyogacentre.co.uk/event/hatha-hour-1602/
LOCATION:1st Floor\, 15 Dormer Place\, Royal Leamington Spa\, Warwickshire\, CV325AA\, United Kingdom
END:VEVENT
BEGIN:VEVENT
DTSTART;TZID=Europe/London:20240611T193000
DTEND;TZID=Europe/London:20240611T204500
DTSTAMP:20260420T041323
CREATED:20240410T155414Z
LAST-MODIFIED:20240410T155414Z
UID:15883-1718134200-1718138700@leamingtonyogacentre.co.uk
SUMMARY:Dynamic Hatha Yoga
DESCRIPTION:
URL:https://leamingtonyogacentre.co.uk/event/dynamic-hatha-yoga-436/
LOCATION:15 Dormer Place\, Leamington Spa\, Warwickshire\, CV32 5AA\, United Kingdom
END:VEVENT
END:VCALENDAR