BEGIN:VCALENDAR
VERSION:2.0
PRODID:-//Leamington Yoga Instructors Therapy Classes - The Heart of Yoga - ECPv4.5.13//NONSGML v1.0//EN
CALSCALE:GREGORIAN
METHOD:PUBLISH
X-WR-CALNAME:Leamington Yoga Instructors Therapy Classes - The Heart of Yoga
X-ORIGINAL-URL:https://leamingtonyogacentre.co.uk
X-WR-CALDESC:Events for Leamington Yoga Instructors Therapy Classes - The Heart of Yoga
BEGIN:VEVENT
DTSTART;TZID=Europe/London:20240506T090000
DTEND;TZID=Europe/London:20240506T103000
DTSTAMP:20260420T060118
CREATED:20240506T161444Z
LAST-MODIFIED:20240506T161444Z
UID:16140-1714986000-1714991400@leamingtonyogacentre.co.uk
SUMMARY:Andiappan Yoga
DESCRIPTION:
URL:https://leamingtonyogacentre.co.uk/event/andiappan-yoga-809/
LOCATION:15 Dormer Place\, Leamington Spa\, Warwickshire\, CV32 5AA\, United Kingdom
END:VEVENT
BEGIN:VEVENT
DTSTART;TZID=Europe/London:20240506T103000
DTEND;TZID=Europe/London:20240506T113000
DTSTAMP:20260420T060118
CREATED:20240204T144633Z
LAST-MODIFIED:20240303T145819Z
UID:15432-1714991400-1714995000@leamingtonyogacentre.co.uk
SUMMARY:Hatha Hour
DESCRIPTION:
URL:https://leamingtonyogacentre.co.uk/event/hatha-hour-1537/
LOCATION:15 Dormer Place\, Leamington Spa\, Warwickshire\, CV32 5AA\, United Kingdom
END:VEVENT
BEGIN:VEVENT
DTSTART;TZID=Europe/London:20240506T180000
DTEND;TZID=Europe/London:20240506T190000
DTSTAMP:20260420T060118
CREATED:20240205T081034Z
LAST-MODIFIED:20240303T151200Z
UID:15525-1715018400-1715022000@leamingtonyogacentre.co.uk
SUMMARY:Hatha Hour
DESCRIPTION:
URL:https://leamingtonyogacentre.co.uk/event/hatha-hour-1551/
LOCATION:15 Dormer Place\, Leamington Spa\, Warwickshire\, CV32 5AA\, United Kingdom
END:VEVENT
BEGIN:VEVENT
DTSTART;TZID=Europe/London:20240506T180000
DTEND;TZID=Europe/London:20240506T190000
DTSTAMP:20260420T060118
CREATED:20240506T065420Z
LAST-MODIFIED:20240506T065420Z
UID:16083-1715018400-1715022000@leamingtonyogacentre.co.uk
SUMMARY:Yin Yoga
DESCRIPTION:
URL:https://leamingtonyogacentre.co.uk/event/yin-yoga-386/
LOCATION:15 Dormer Place\, Leamington Spa\, Warwickshire\, CV32 5AA\, United Kingdom
END:VEVENT
BEGIN:VEVENT
DTSTART;TZID=Europe/London:20240506T191500
DTEND;TZID=Europe/London:20240506T204500
DTSTAMP:20260420T060118
CREATED:20240204T145859Z
LAST-MODIFIED:20240204T145859Z
UID:15460-1715022900-1715028300@leamingtonyogacentre.co.uk
SUMMARY:Andiappan Yoga
DESCRIPTION:
URL:https://leamingtonyogacentre.co.uk/event/andiappan-yoga-789/
LOCATION:15 Dormer Place\, Leamington Spa\, Warwickshire\, CV32 5AA\, United Kingdom
END:VEVENT
END:VCALENDAR