BEGIN:VCALENDAR
VERSION:2.0
PRODID:-//Leamington Yoga Instructors Therapy Classes - The Heart of Yoga - ECPv4.5.13//NONSGML v1.0//EN
CALSCALE:GREGORIAN
METHOD:PUBLISH
X-WR-CALNAME:Leamington Yoga Instructors Therapy Classes - The Heart of Yoga
X-ORIGINAL-URL:https://leamingtonyogacentre.co.uk
X-WR-CALDESC:Events for Leamington Yoga Instructors Therapy Classes - The Heart of Yoga
BEGIN:VEVENT
DTSTART;TZID=Europe/London:20240323T070000
DTEND;TZID=Europe/London:20240323T083000
DTSTAMP:20260420T094947
CREATED:20240105T122023Z
LAST-MODIFIED:20240105T122023Z
UID:15288-1711177200-1711182600@leamingtonyogacentre.co.uk
SUMMARY:Morning Yoga Practice
DESCRIPTION:
URL:https://leamingtonyogacentre.co.uk/event/morning-yoga-practice-334/
LOCATION:15 Dormer Place\, Leamington Spa\, Warwickshire\, CV32 5AA\, United Kingdom
END:VEVENT
BEGIN:VEVENT
DTSTART;TZID=Europe/London:20240323T090000
DTEND;TZID=Europe/London:20240323T103000
DTSTAMP:20260420T094947
CREATED:20240105T120850Z
LAST-MODIFIED:20240105T120850Z
UID:15269-1711184400-1711189800@leamingtonyogacentre.co.uk
SUMMARY:Andiappan Basics
DESCRIPTION:
URL:https://leamingtonyogacentre.co.uk/event/andiappan-basics-64/
LOCATION:15 Dormer Place\, Leamington Spa\, Warwickshire\, CV32 5AA\, United Kingdom
END:VEVENT
BEGIN:VEVENT
DTSTART;TZID=Europe/London:20240323T110000
DTEND;TZID=Europe/London:20240323T120000
DTSTAMP:20260420T094947
CREATED:20240105T130033Z
LAST-MODIFIED:20240105T130033Z
UID:15350-1711191600-1711195200@leamingtonyogacentre.co.uk
SUMMARY:Hatha Hour
DESCRIPTION:
URL:https://leamingtonyogacentre.co.uk/event/hatha-hour-1521/
LOCATION:15 Dormer Place\, Leamington Spa\, Warwickshire\, CV32 5AA\, United Kingdom
END:VEVENT
BEGIN:VEVENT
DTSTART;TZID=Europe/London:20240323T123000
DTEND;TZID=Europe/London:20240323T133000
DTSTAMP:20260420T094947
CREATED:20240105T125008Z
LAST-MODIFIED:20240105T125008Z
UID:15330-1711197000-1711200600@leamingtonyogacentre.co.uk
SUMMARY:Back Care Yoga
DESCRIPTION:
URL:https://leamingtonyogacentre.co.uk/event/back-care-yoga-829/
LOCATION:15 Dormer Place\, Leamington Spa\, Warwickshire\, CV32 5AA\, United Kingdom
END:VEVENT
END:VCALENDAR