BEGIN:VCALENDAR
VERSION:2.0
PRODID:-//Leamington Yoga Instructors Therapy Classes - The Heart of Yoga - ECPv4.5.13//NONSGML v1.0//EN
CALSCALE:GREGORIAN
METHOD:PUBLISH
X-WR-CALNAME:Leamington Yoga Instructors Therapy Classes - The Heart of Yoga
X-ORIGINAL-URL:https://leamingtonyogacentre.co.uk
X-WR-CALDESC:Events for Leamington Yoga Instructors Therapy Classes - The Heart of Yoga
BEGIN:VEVENT
DTSTART;TZID=Europe/London:20231210T090000
DTEND;TZID=Europe/London:20231210T103000
DTSTAMP:20260420T144514
CREATED:20231210T141612Z
LAST-MODIFIED:20231210T141612Z
UID:15094-1702198800-1702204200@leamingtonyogacentre.co.uk
SUMMARY:Andiappan Basics
DESCRIPTION:
URL:https://leamingtonyogacentre.co.uk/event/andiappan-basics-55/
LOCATION:15 Dormer Place\, Leamington Spa\, Warwickshire\, CV32 5AA\, United Kingdom
END:VEVENT
BEGIN:VEVENT
DTSTART;TZID=Europe/London:20231210T163000
DTEND;TZID=Europe/London:20231210T173000
DTSTAMP:20260420T144514
CREATED:20231110T120535Z
LAST-MODIFIED:20231110T120535Z
UID:14926-1702225800-1702229400@leamingtonyogacentre.co.uk
SUMMARY:Hatha Hour
DESCRIPTION:
URL:https://leamingtonyogacentre.co.uk/event/hatha-hour-1444/
LOCATION:15 Dormer Place\, Leamington Spa\, Warwickshire\, CV32 5AA\, United Kingdom
END:VEVENT
BEGIN:VEVENT
DTSTART;TZID=Europe/London:20231210T183000
DTEND;TZID=Europe/London:20231210T193000
DTSTAMP:20260420T144514
CREATED:20231105T160612Z
LAST-MODIFIED:20231105T160612Z
UID:14670-1702233000-1702236600@leamingtonyogacentre.co.uk
SUMMARY:Yin Yoga
DESCRIPTION:
URL:https://leamingtonyogacentre.co.uk/event/yin-yoga-346/
LOCATION:15 Dormer Place\, Leamington Spa\, Warwickshire\, CV32 5AA\, United Kingdom
END:VEVENT
BEGIN:VEVENT
DTSTART;TZID=Europe/London:20231210T191500
DTEND;TZID=Europe/London:20231210T203000
DTSTAMP:20260420T144514
CREATED:20231210T141448Z
LAST-MODIFIED:20231210T141448Z
UID:15090-1702235700-1702240200@leamingtonyogacentre.co.uk
SUMMARY:Andiappan Yoga
DESCRIPTION:
URL:https://leamingtonyogacentre.co.uk/event/andiappan-yoga-779/
LOCATION:15 Dormer Place\, Leamington Spa\, Warwickshire\, CV32 5AA\, United Kingdom
END:VEVENT
END:VCALENDAR