BEGIN:VCALENDAR
VERSION:2.0
PRODID:-//Leamington Yoga Instructors Therapy Classes - The Heart of Yoga - ECPv4.5.13//NONSGML v1.0//EN
CALSCALE:GREGORIAN
METHOD:PUBLISH
X-WR-CALNAME:Leamington Yoga Instructors Therapy Classes - The Heart of Yoga
X-ORIGINAL-URL:https://leamingtonyogacentre.co.uk
X-WR-CALDESC:Events for Leamington Yoga Instructors Therapy Classes - The Heart of Yoga
BEGIN:VEVENT
DTSTART;TZID=Europe/London:20231205T070000
DTEND;TZID=Europe/London:20231205T080000
DTSTAMP:20260420T144453
CREATED:20231105T161758Z
LAST-MODIFIED:20231110T121207Z
UID:14695-1701759600-1701763200@leamingtonyogacentre.co.uk
SUMMARY:Morning Yoga Practice
DESCRIPTION:
URL:https://leamingtonyogacentre.co.uk/event/morning-yoga-practice-302/
LOCATION:15 Dormer Place\, Leamington Spa\, Warwickshire\, CV32 5AA\, United Kingdom
END:VEVENT
BEGIN:VEVENT
DTSTART;TZID=Europe/London:20231205T123000
DTEND;TZID=Europe/London:20231205T133000
DTSTAMP:20260420T144453
CREATED:20231106T161203Z
LAST-MODIFIED:20231106T161203Z
UID:14725-1701779400-1701783000@leamingtonyogacentre.co.uk
SUMMARY:Pure Yoga
DESCRIPTION:
URL:https://leamingtonyogacentre.co.uk/event/pure-yoga-280/
LOCATION:15 Dormer Place\, Leamington Spa\, Warwickshire\, CV32 5AA\, United Kingdom
END:VEVENT
BEGIN:VEVENT
DTSTART;TZID=Europe/London:20231205T163000
DTEND;TZID=Europe/London:20231205T173000
DTSTAMP:20260420T144453
CREATED:20231107T144338Z
LAST-MODIFIED:20231107T144338Z
UID:14758-1701793800-1701797400@leamingtonyogacentre.co.uk
SUMMARY:Back Care Yoga
DESCRIPTION:
URL:https://leamingtonyogacentre.co.uk/event/back-care-yoga-781/
LOCATION:15 Dormer Place\, Leamington Spa\, Warwickshire\, CV32 5AA\, United Kingdom
END:VEVENT
BEGIN:VEVENT
DTSTART;TZID=Europe/London:20231205T180000
DTEND;TZID=Europe/London:20231205T190000
DTSTAMP:20260420T144453
CREATED:20231110T112245Z
LAST-MODIFIED:20231110T112245Z
UID:14869-1701799200-1701802800@leamingtonyogacentre.co.uk
SUMMARY:Hatha Hour
DESCRIPTION:
URL:https://leamingtonyogacentre.co.uk/event/hatha-hour-1429/
LOCATION:15 Dormer Place\, Leamington Spa\, Warwickshire\, CV32 5AA\, United Kingdom
END:VEVENT
BEGIN:VEVENT
DTSTART;TZID=Europe/London:20231205T193000
DTEND;TZID=Europe/London:20231205T204500
DTSTAMP:20260420T144453
CREATED:20231110T113836Z
LAST-MODIFIED:20231110T113836Z
UID:14896-1701804600-1701809100@leamingtonyogacentre.co.uk
SUMMARY:Dynamic Hatha Yoga
DESCRIPTION:
URL:https://leamingtonyogacentre.co.uk/event/dynamic-hatha-yoga-384/
LOCATION:15 Dormer Place\, Leamington Spa\, Warwickshire\, CV32 5AA\, United Kingdom
END:VEVENT
END:VCALENDAR