BEGIN:VCALENDAR
VERSION:2.0
PRODID:-//Leamington Yoga Instructors Therapy Classes - The Heart of Yoga - ECPv4.5.13//NONSGML v1.0//EN
CALSCALE:GREGORIAN
METHOD:PUBLISH
X-WR-CALNAME:Leamington Yoga Instructors Therapy Classes - The Heart of Yoga
X-ORIGINAL-URL:https://leamingtonyogacentre.co.uk
X-WR-CALDESC:Events for Leamington Yoga Instructors Therapy Classes - The Heart of Yoga
BEGIN:VEVENT
DTSTART;TZID=Europe/London:20231009T071500
DTEND;TZID=Europe/London:20231009T204500
DTSTAMP:20260420T195954
CREATED:20230807T140707Z
LAST-MODIFIED:20230807T140707Z
UID:14112-1696835700-1696884300@leamingtonyogacentre.co.uk
SUMMARY:Andiappan Basics
DESCRIPTION:
URL:https://leamingtonyogacentre.co.uk/event/andiappan-basics-42/
LOCATION:15 Dormer Place\, Leamington Spa\, Warwickshire\, CV32 5AA\, United Kingdom
END:VEVENT
BEGIN:VEVENT
DTSTART;TZID=Europe/London:20231009T103000
DTEND;TZID=Europe/London:20231009T113000
DTSTAMP:20260420T195954
CREATED:20230813T144315Z
LAST-MODIFIED:20230813T144315Z
UID:14279-1696847400-1696851000@leamingtonyogacentre.co.uk
SUMMARY:Hatha Hour
DESCRIPTION:
URL:https://leamingtonyogacentre.co.uk/event/hatha-hour-1372/
LOCATION:15 Dormer Place\, Leamington Spa\, Warwickshire\, CV32 5AA\, United Kingdom
END:VEVENT
BEGIN:VEVENT
DTSTART;TZID=Europe/London:20231009T180000
DTEND;TZID=Europe/London:20231009T190000
DTSTAMP:20260420T195954
CREATED:20230813T144340Z
LAST-MODIFIED:20230813T144340Z
UID:14277-1696874400-1696878000@leamingtonyogacentre.co.uk
SUMMARY:Hatha Hour
DESCRIPTION:
URL:https://leamingtonyogacentre.co.uk/event/hatha-hour-1373/
LOCATION:15 Dormer Place\, Leamington Spa\, Warwickshire\, CV32 5AA\, United Kingdom
END:VEVENT
END:VCALENDAR