BEGIN:VCALENDAR
VERSION:2.0
PRODID:-//Leamington Yoga Instructors Therapy Classes - The Heart of Yoga - ECPv4.5.13//NONSGML v1.0//EN
CALSCALE:GREGORIAN
METHOD:PUBLISH
X-WR-CALNAME:Leamington Yoga Instructors Therapy Classes - The Heart of Yoga
X-ORIGINAL-URL:https://leamingtonyogacentre.co.uk
X-WR-CALDESC:Events for Leamington Yoga Instructors Therapy Classes - The Heart of Yoga
BEGIN:VEVENT
DTSTART;TZID=Europe/London:20230921T120000
DTEND;TZID=Europe/London:20230921T130000
DTSTAMP:20260420T194526
CREATED:20230812T064752Z
LAST-MODIFIED:20230812T064752Z
UID:14272-1695297600-1695301200@leamingtonyogacentre.co.uk
SUMMARY:Pure Yoga
DESCRIPTION:
URL:https://leamingtonyogacentre.co.uk/event/pure-yoga-260/
LOCATION:15 Dormer Place\, Leamington Spa\, Warwickshire\, CV32 5AA\, United Kingdom
END:VEVENT
BEGIN:VEVENT
DTSTART;TZID=Europe/London:20230921T163000
DTEND;TZID=Europe/London:20230921T173000
DTSTAMP:20260420T194526
CREATED:20230808T134131Z
LAST-MODIFIED:20230808T134131Z
UID:14220-1695313800-1695317400@leamingtonyogacentre.co.uk
SUMMARY:Back Care Yoga
DESCRIPTION:
URL:https://leamingtonyogacentre.co.uk/event/back-care-yoga-748/
LOCATION:1st Floor\, 15 Dormer Place\, Royal Leamington Spa\, Warwickshire\, CV325AA\, United Kingdom
END:VEVENT
BEGIN:VEVENT
DTSTART;TZID=Europe/London:20230921T180000
DTEND;TZID=Europe/London:20230921T190000
DTSTAMP:20260420T194526
CREATED:20230807T143931Z
LAST-MODIFIED:20230807T143931Z
UID:14163-1695319200-1695322800@leamingtonyogacentre.co.uk
SUMMARY:Hatha Hour
DESCRIPTION:
URL:https://leamingtonyogacentre.co.uk/event/hatha-hour-1346/
LOCATION:15 Dormer Place\, Leamington Spa\, Warwickshire\, CV32 5AA\, United Kingdom
END:VEVENT
BEGIN:VEVENT
DTSTART;TZID=Europe/London:20230921T193000
DTEND;TZID=Europe/London:20230921T204500
DTSTAMP:20260420T194526
CREATED:20230809T183349Z
LAST-MODIFIED:20230809T183349Z
UID:14246-1695324600-1695329100@leamingtonyogacentre.co.uk
SUMMARY:Dynamic Hatha Yoga
DESCRIPTION:
URL:https://leamingtonyogacentre.co.uk/event/dynamic-hatha-yoga-361/
LOCATION:15 Dormer Place\, Leamington Spa\, Warwickshire\, CV32 5AA\, United Kingdom
END:VEVENT
END:VCALENDAR