BEGIN:VCALENDAR
VERSION:2.0
PRODID:-//Leamington Yoga Instructors Therapy Classes - The Heart of Yoga - ECPv4.5.13//NONSGML v1.0//EN
CALSCALE:GREGORIAN
METHOD:PUBLISH
X-WR-CALNAME:Leamington Yoga Instructors Therapy Classes - The Heart of Yoga
X-ORIGINAL-URL:https://leamingtonyogacentre.co.uk
X-WR-CALDESC:Events for Leamington Yoga Instructors Therapy Classes - The Heart of Yoga
BEGIN:VEVENT
DTSTART;TZID=Europe/London:20230819T070000
DTEND;TZID=Europe/London:20230819T083000
DTSTAMP:20260420T211440
CREATED:20230705T115750Z
LAST-MODIFIED:20230705T115750Z
UID:14072-1692428400-1692433800@leamingtonyogacentre.co.uk
SUMMARY:Yoga Mentor/ Teacher Training
DESCRIPTION:
URL:https://leamingtonyogacentre.co.uk/event/yoga-mentor-teacher-training-46/
LOCATION:15 Dormer Place\, Leamington Spa\, Warwickshire\, CV32 5AA\, United Kingdom
END:VEVENT
BEGIN:VEVENT
DTSTART;TZID=Europe/London:20230819T090000
DTEND;TZID=Europe/London:20230819T103000
DTSTAMP:20260420T211440
CREATED:20221204T155317Z
LAST-MODIFIED:20230526T091110Z
UID:12705-1692435600-1692441000@leamingtonyogacentre.co.uk
SUMMARY:Andiappan Yoga
DESCRIPTION:
URL:https://leamingtonyogacentre.co.uk/event/andiappan-yoga-721/
LOCATION:15 Dormer Place\, Leamington Spa\, Warwickshire\, CV32 5AA\, United Kingdom
END:VEVENT
BEGIN:VEVENT
DTSTART;TZID=Europe/London:20230819T110000
DTEND;TZID=Europe/London:20230819T120000
DTSTAMP:20260420T211440
CREATED:20230623T095220Z
LAST-MODIFIED:20230623T095220Z
UID:13881-1692442800-1692446400@leamingtonyogacentre.co.uk
SUMMARY:Hatha Hour
DESCRIPTION:
URL:https://leamingtonyogacentre.co.uk/event/hatha-hour-1308/
LOCATION:15 Dormer Place\, Leamington Spa\, Warwickshire\, CV32 5AA\, United Kingdom
END:VEVENT
BEGIN:VEVENT
DTSTART;TZID=Europe/London:20230819T123000
DTEND;TZID=Europe/London:20230819T133000
DTSTAMP:20260420T211440
CREATED:20230630T114636Z
LAST-MODIFIED:20230630T114636Z
UID:14018-1692448200-1692451800@leamingtonyogacentre.co.uk
SUMMARY:Back Care Yoga
DESCRIPTION:
URL:https://leamingtonyogacentre.co.uk/event/back-care-yoga-735/
LOCATION:15 Dormer Place\, Leamington Spa\, Warwickshire\, CV32 5AA\, United Kingdom
END:VEVENT
END:VCALENDAR