BEGIN:VCALENDAR
VERSION:2.0
PRODID:-//Leamington Yoga Instructors Therapy Classes - The Heart of Yoga - ECPv4.5.13//NONSGML v1.0//EN
CALSCALE:GREGORIAN
METHOD:PUBLISH
X-WR-CALNAME:Leamington Yoga Instructors Therapy Classes - The Heart of Yoga
X-ORIGINAL-URL:https://leamingtonyogacentre.co.uk
X-WR-CALDESC:Events for Leamington Yoga Instructors Therapy Classes - The Heart of Yoga
BEGIN:VEVENT
DTSTART;TZID=Europe/London:20230711T070000
DTEND;TZID=Europe/London:20230711T083000
DTSTAMP:20260420T224804
CREATED:20230521T165715Z
LAST-MODIFIED:20230521T165715Z
UID:13587-1689058800-1689064200@leamingtonyogacentre.co.uk
SUMMARY:Morning Yoga Practice
DESCRIPTION:
URL:https://leamingtonyogacentre.co.uk/event/morning-yoga-practice-269/
LOCATION:15 Dormer Place\, Leamington Spa\, Warwickshire\, CV32 5AA\, United Kingdom
END:VEVENT
BEGIN:VEVENT
DTSTART;TZID=Europe/London:20230711T123000
DTEND;TZID=Europe/London:20230711T133000
DTSTAMP:20260420T224804
CREATED:20230529T163025Z
LAST-MODIFIED:20230705T095505Z
UID:13776-1689078600-1689082200@leamingtonyogacentre.co.uk
SUMMARY:Pure Yoga
DESCRIPTION:
URL:https://leamingtonyogacentre.co.uk/event/pure-yoga-237/
LOCATION:15 Dormer Place\, Leamington Spa\, Warwickshire\, CV32 5AA\, United Kingdom
END:VEVENT
BEGIN:VEVENT
DTSTART;TZID=Europe/London:20230711T163000
DTEND;TZID=Europe/London:20230711T173000
DTSTAMP:20260420T224804
CREATED:20230605T194955Z
LAST-MODIFIED:20230605T194955Z
UID:13793-1689093000-1689096600@leamingtonyogacentre.co.uk
SUMMARY:Back Care Yoga
DESCRIPTION:
URL:https://leamingtonyogacentre.co.uk/event/back-care-yoga-719/
LOCATION:15 Dormer Place\, Leamington Spa\, Warwickshire\, CV32 5AA\, United Kingdom
END:VEVENT
BEGIN:VEVENT
DTSTART;TZID=Europe/London:20230711T180000
DTEND;TZID=Europe/London:20230711T190000
DTSTAMP:20260420T224804
CREATED:20230528T090943Z
LAST-MODIFIED:20230528T093235Z
UID:13730-1689098400-1689102000@leamingtonyogacentre.co.uk
SUMMARY:Hatha Hour
DESCRIPTION:
URL:https://leamingtonyogacentre.co.uk/event/hatha-hour-1273/
LOCATION:15 Dormer Place\, Leamington Spa\, Warwickshire\, CV32 5AA\, United Kingdom
END:VEVENT
BEGIN:VEVENT
DTSTART;TZID=Europe/London:20230711T193000
DTEND;TZID=Europe/London:20230711T204500
DTSTAMP:20260420T224804
CREATED:20230611T134357Z
LAST-MODIFIED:20230611T134357Z
UID:13817-1689103800-1689108300@leamingtonyogacentre.co.uk
SUMMARY:Dynamic Hatha Yoga
DESCRIPTION:
URL:https://leamingtonyogacentre.co.uk/event/dynamic-hatha-yoga-341/
LOCATION:15 Dormer Place\, Leamington Spa\, Warwickshire\, CV32 5AA\, United Kingdom
END:VEVENT
END:VCALENDAR