BEGIN:VCALENDAR
VERSION:2.0
PRODID:-//Leamington Yoga Instructors Therapy Classes - The Heart of Yoga - ECPv4.5.13//NONSGML v1.0//EN
CALSCALE:GREGORIAN
METHOD:PUBLISH
X-WR-CALNAME:Leamington Yoga Instructors Therapy Classes - The Heart of Yoga
X-ORIGINAL-URL:https://leamingtonyogacentre.co.uk
X-WR-CALDESC:Events for Leamington Yoga Instructors Therapy Classes - The Heart of Yoga
BEGIN:VEVENT
DTSTART;TZID=Europe/London:20230706T120000
DTEND;TZID=Europe/London:20230706T130000
DTSTAMP:20260420T224158
CREATED:20230529T162930Z
LAST-MODIFIED:20230705T095446Z
UID:13772-1688644800-1688648400@leamingtonyogacentre.co.uk
SUMMARY:Pure Yoga
DESCRIPTION:
URL:https://leamingtonyogacentre.co.uk/event/pure-yoga-236/
END:VEVENT
BEGIN:VEVENT
DTSTART;TZID=Europe/London:20230706T163000
DTEND;TZID=Europe/London:20230706T173000
DTSTAMP:20260420T224158
CREATED:20230116T095749Z
LAST-MODIFIED:20230526T084627Z
UID:12992-1688661000-1688664600@leamingtonyogacentre.co.uk
SUMMARY:Back Care Yoga
DESCRIPTION:
URL:https://leamingtonyogacentre.co.uk/event/back-care-yoga-671/
LOCATION:15 Dormer Place\, Leamington Spa\, Warwickshire\, CV32 5AA\, United Kingdom
END:VEVENT
BEGIN:VEVENT
DTSTART;TZID=Europe/London:20230706T180000
DTEND;TZID=Europe/London:20230706T190000
DTSTAMP:20260420T224158
CREATED:20230528T091650Z
LAST-MODIFIED:20230528T091650Z
UID:13745-1688666400-1688670000@leamingtonyogacentre.co.uk
SUMMARY:Hatha Hour
DESCRIPTION:
URL:https://leamingtonyogacentre.co.uk/event/hatha-hour-1280/
LOCATION:15 Dormer Place\, Leamington Spa\, Warwickshire\, CV32 5AA\, United Kingdom
END:VEVENT
BEGIN:VEVENT
DTSTART;TZID=Europe/London:20230706T193000
DTEND;TZID=Europe/London:20230706T204500
DTSTAMP:20260420T224158
CREATED:20230611T134234Z
LAST-MODIFIED:20230705T120733Z
UID:13813-1688671800-1688676300@leamingtonyogacentre.co.uk
SUMMARY:Dynamic Hatha Yoga
DESCRIPTION:
URL:https://leamingtonyogacentre.co.uk/event/dynamic-hatha-yoga-340/
LOCATION:15 Dormer Place\, Leamington Spa\, Warwickshire\, CV32 5AA\, United Kingdom
END:VEVENT
END:VCALENDAR