BEGIN:VCALENDAR
VERSION:2.0
PRODID:-//Leamington Yoga Instructors Therapy Classes - The Heart of Yoga - ECPv4.5.13//NONSGML v1.0//EN
CALSCALE:GREGORIAN
METHOD:PUBLISH
X-WR-CALNAME:Leamington Yoga Instructors Therapy Classes - The Heart of Yoga
X-ORIGINAL-URL:https://leamingtonyogacentre.co.uk
X-WR-CALDESC:Events for Leamington Yoga Instructors Therapy Classes - The Heart of Yoga
BEGIN:VEVENT
DTSTART;TZID=Europe/London:20230527T070000
DTEND;TZID=Europe/London:20230527T083000
DTSTAMP:20260421T015258
CREATED:20230317T083552Z
LAST-MODIFIED:20230317T083552Z
UID:13510-1685170800-1685176200@leamingtonyogacentre.co.uk
SUMMARY:Yoga Mentor/ Teacher Training
DESCRIPTION:
URL:https://leamingtonyogacentre.co.uk/event/yoga-mentor-teacher-training-38/
LOCATION:15 Dormer Place\, Leamington Spa\, Warwickshire\, CV32 5AA\, United Kingdom
END:VEVENT
BEGIN:VEVENT
DTSTART;TZID=Europe/London:20230527T090000
DTEND;TZID=Europe/London:20230527T223000
DTSTAMP:20260421T015258
CREATED:20230314T095738Z
LAST-MODIFIED:20230314T095738Z
UID:13494-1685178000-1685226600@leamingtonyogacentre.co.uk
SUMMARY:Andiappan Yoga
DESCRIPTION:
URL:https://leamingtonyogacentre.co.uk/event/andiappan-yoga-744/
LOCATION:15 Dormer Place\, Leamington Spa\, Warwickshire\, CV32 5AA\, United Kingdom
END:VEVENT
BEGIN:VEVENT
DTSTART;TZID=Europe/London:20230527T110000
DTEND;TZID=Europe/London:20230527T120000
DTSTAMP:20260421T015258
CREATED:20230306T115315Z
LAST-MODIFIED:20230306T115315Z
UID:13431-1685185200-1685188800@leamingtonyogacentre.co.uk
SUMMARY:Hatha Hour
DESCRIPTION:
URL:https://leamingtonyogacentre.co.uk/event/hatha-hour-1225/
LOCATION:15 Dormer Place\, Leamington Spa\, Warwickshire\, CV32 5AA\, United Kingdom
END:VEVENT
BEGIN:VEVENT
DTSTART;TZID=Europe/London:20230527T123000
DTEND;TZID=Europe/London:20230527T133000
DTSTAMP:20260421T015258
CREATED:20221230T100358Z
LAST-MODIFIED:20230307T095812Z
UID:12816-1685190600-1685194200@leamingtonyogacentre.co.uk
SUMMARY:Back Care Yoga
DESCRIPTION:
URL:https://leamingtonyogacentre.co.uk/event/back-care-yoga-652/
LOCATION:15 Dormer Place\, Leamington Spa\, Warwickshire\, CV32 5AA\, United Kingdom
END:VEVENT
END:VCALENDAR