BEGIN:VCALENDAR
VERSION:2.0
PRODID:-//Leamington Yoga Instructors Therapy Classes - The Heart of Yoga - ECPv4.5.13//NONSGML v1.0//EN
CALSCALE:GREGORIAN
METHOD:PUBLISH
X-WR-CALNAME:Leamington Yoga Instructors Therapy Classes - The Heart of Yoga
X-ORIGINAL-URL:https://leamingtonyogacentre.co.uk
X-WR-CALDESC:Events for Leamington Yoga Instructors Therapy Classes - The Heart of Yoga
BEGIN:VEVENT
DTSTART;TZID=Europe/London:20230518T120000
DTEND;TZID=Europe/London:20230518T130000
DTSTAMP:20260421T015230
CREATED:20230303T123249Z
LAST-MODIFIED:20230303T123249Z
UID:13380-1684411200-1684414800@leamingtonyogacentre.co.uk
SUMMARY:Pure Yoga
DESCRIPTION:
URL:https://leamingtonyogacentre.co.uk/event/pure-yoga-221/
LOCATION:15 Dormer Place\, Leamington Spa\, Warwickshire\, CV32 5AA\, United Kingdom
END:VEVENT
BEGIN:VEVENT
DTSTART;TZID=Europe/London:20230518T163000
DTEND;TZID=Europe/London:20230518T173000
DTSTAMP:20260421T015230
CREATED:20230307T094632Z
LAST-MODIFIED:20230307T094632Z
UID:13441-1684427400-1684431000@leamingtonyogacentre.co.uk
SUMMARY:Back Care Yoga
DESCRIPTION:
URL:https://leamingtonyogacentre.co.uk/event/back-care-yoga-706/
LOCATION:15 Dormer Place\, Leamington Spa\, Warwickshire\, CV32 5AA\, United Kingdom
END:VEVENT
BEGIN:VEVENT
DTSTART;TZID=Europe/London:20230518T180000
DTEND;TZID=Europe/London:20230518T190000
DTSTAMP:20260421T015230
CREATED:20230306T114504Z
LAST-MODIFIED:20230306T114504Z
UID:13417-1684432800-1684436400@leamingtonyogacentre.co.uk
SUMMARY:Hatha Hour
DESCRIPTION:
URL:https://leamingtonyogacentre.co.uk/event/hatha-hour-1218/
LOCATION:15 Dormer Place\, Leamington Spa\, Warwickshire\, CV32 5AA\, United Kingdom
END:VEVENT
BEGIN:VEVENT
DTSTART;TZID=Europe/London:20230518T193000
DTEND;TZID=Europe/London:20230518T210000
DTSTAMP:20260421T015230
CREATED:20230307T095132Z
LAST-MODIFIED:20230307T095132Z
UID:13451-1684438200-1684443600@leamingtonyogacentre.co.uk
SUMMARY:Dynamic Hatha Yoga
DESCRIPTION:
URL:https://leamingtonyogacentre.co.uk/event/dynamic-hatha-yoga-330/
LOCATION:15 Dormer Place\, Leamington Spa\, Warwickshire\, CV32 5AA\, United Kingdom
END:VEVENT
END:VCALENDAR