BEGIN:VCALENDAR
VERSION:2.0
PRODID:-//Leamington Yoga Instructors Therapy Classes - The Heart of Yoga - ECPv4.5.13//NONSGML v1.0//EN
CALSCALE:GREGORIAN
METHOD:PUBLISH
X-WR-CALNAME:Leamington Yoga Instructors Therapy Classes - The Heart of Yoga
X-ORIGINAL-URL:https://leamingtonyogacentre.co.uk
X-WR-CALDESC:Events for Leamington Yoga Instructors Therapy Classes - The Heart of Yoga
BEGIN:VEVENT
DTSTART;TZID=Europe/London:20230517T180000
DTEND;TZID=Europe/London:20230517T191500
DTSTAMP:20260421T032727
CREATED:20230208T195727Z
LAST-MODIFIED:20230208T195727Z
UID:13288-1684346400-1684350900@leamingtonyogacentre.co.uk
SUMMARY:Beginners Yoga Course
DESCRIPTION:
URL:https://leamingtonyogacentre.co.uk/event/beginners-yoga-course-94/
LOCATION:15 Dormer Place\, Leamington Spa\, Warwickshire\, CV32 5AA\, United Kingdom
END:VEVENT
BEGIN:VEVENT
DTSTART;TZID=Europe/London:20230517T193000
DTEND;TZID=Europe/London:20230517T203000
DTSTAMP:20260421T032727
CREATED:20230317T083256Z
LAST-MODIFIED:20230317T083256Z
UID:13507-1684351800-1684355400@leamingtonyogacentre.co.uk
SUMMARY:Hatha Hour
DESCRIPTION:
URL:https://leamingtonyogacentre.co.uk/event/hatha-hour-1233/
LOCATION:1st Floor\, 15 Dormer Place\, Royal Leamington Spa\, Warwickshire\, CV325AA\, United Kingdom
END:VEVENT
END:VCALENDAR