BEGIN:VCALENDAR
VERSION:2.0
PRODID:-//Leamington Yoga Instructors Therapy Classes - The Heart of Yoga - ECPv4.5.13//NONSGML v1.0//EN
CALSCALE:GREGORIAN
METHOD:PUBLISH
X-WR-CALNAME:Leamington Yoga Instructors Therapy Classes - The Heart of Yoga
X-ORIGINAL-URL:https://leamingtonyogacentre.co.uk
X-WR-CALDESC:Events for Leamington Yoga Instructors Therapy Classes - The Heart of Yoga
BEGIN:VEVENT
DTSTART;TZID=Europe/London:20230404T073000
DTEND;TZID=Europe/London:20230404T083000
DTSTAMP:20260421T032625
CREATED:20230201T194514Z
LAST-MODIFIED:20230201T194514Z
UID:13091-1680593400-1680597000@leamingtonyogacentre.co.uk
SUMMARY:Morning Yoga Practice
DESCRIPTION:
URL:https://leamingtonyogacentre.co.uk/event/morning-yoga-practice-255/
LOCATION:15 Dormer Place\, Leamington Spa\, Warwickshire\, CV32 5AA\, United Kingdom
END:VEVENT
BEGIN:VEVENT
DTSTART;TZID=Europe/London:20230404T123000
DTEND;TZID=Europe/London:20230404T133000
DTSTAMP:20260421T032625
CREATED:20230201T195146Z
LAST-MODIFIED:20230201T195146Z
UID:13102-1680611400-1680615000@leamingtonyogacentre.co.uk
SUMMARY:Pure Yoga
DESCRIPTION:
URL:https://leamingtonyogacentre.co.uk/event/pure-yoga-209/
LOCATION:15 Dormer Place\, Leamington Spa\, Warwickshire\, CV32 5AA\, United Kingdom
END:VEVENT
BEGIN:VEVENT
DTSTART;TZID=Europe/London:20230404T163000
DTEND;TZID=Europe/London:20230404T173000
DTSTAMP:20260421T032625
CREATED:20230202T094929Z
LAST-MODIFIED:20230202T094929Z
UID:13173-1680625800-1680629400@leamingtonyogacentre.co.uk
SUMMARY:Back Care Yoga
DESCRIPTION:
URL:https://leamingtonyogacentre.co.uk/event/back-care-yoga-679/
LOCATION:15 Dormer Place\, Leamington Spa\, Warwickshire\, CV32 5AA\, United Kingdom
END:VEVENT
BEGIN:VEVENT
DTSTART;TZID=Europe/London:20230404T180000
DTEND;TZID=Europe/London:20230404T190000
DTSTAMP:20260421T032625
CREATED:20230110T134508Z
LAST-MODIFIED:20230111T080037Z
UID:12968-1680631200-1680634800@leamingtonyogacentre.co.uk
SUMMARY:Hatha Hour
DESCRIPTION:
URL:https://leamingtonyogacentre.co.uk/event/hatha-hour-1151/
LOCATION:15 Dormer Place\, Leamington Spa\, Warwickshire\, CV32 5AA\, United Kingdom
END:VEVENT
BEGIN:VEVENT
DTSTART;TZID=Europe/London:20230404T193000
DTEND;TZID=Europe/London:20230404T204500
DTSTAMP:20260421T032625
CREATED:20230207T103212Z
LAST-MODIFIED:20230207T103212Z
UID:13243-1680636600-1680641100@leamingtonyogacentre.co.uk
SUMMARY:Dynamic Hatha Yoga
DESCRIPTION:
URL:https://leamingtonyogacentre.co.uk/event/dynamic-hatha-yoga-314/
LOCATION:15 Dormer Place\, Leamington Spa\, Warwickshire\, CV32 5AA\, United Kingdom
END:VEVENT
END:VCALENDAR