BEGIN:VCALENDAR
VERSION:2.0
PRODID:-//Leamington Yoga Instructors Therapy Classes - The Heart of Yoga - ECPv4.5.13//NONSGML v1.0//EN
CALSCALE:GREGORIAN
METHOD:PUBLISH
X-WR-CALNAME:Leamington Yoga Instructors Therapy Classes - The Heart of Yoga
X-ORIGINAL-URL:https://leamingtonyogacentre.co.uk
X-WR-CALDESC:Events for Leamington Yoga Instructors Therapy Classes - The Heart of Yoga
BEGIN:VEVENT
DTSTART;TZID=Europe/London:20230330T120000
DTEND;TZID=Europe/London:20230330T130000
DTSTAMP:20260421T032941
CREATED:20230106T125411Z
LAST-MODIFIED:20230106T125411Z
UID:12960-1680177600-1680181200@leamingtonyogacentre.co.uk
SUMMARY:Pure Yoga
DESCRIPTION:
URL:https://leamingtonyogacentre.co.uk/event/pure-yoga-208/
LOCATION:15 Dormer Place\, Leamington Spa\, Warwickshire\, CV32 5AA\, United Kingdom
END:VEVENT
BEGIN:VEVENT
DTSTART;TZID=Europe/London:20230330T163000
DTEND;TZID=Europe/London:20230330T173000
DTSTAMP:20260421T032941
CREATED:20230116T100339Z
LAST-MODIFIED:20230116T100339Z
UID:13004-1680193800-1680197400@leamingtonyogacentre.co.uk
SUMMARY:Back Care Yoga
DESCRIPTION:
URL:https://leamingtonyogacentre.co.uk/event/back-care-yoga-677/
LOCATION:15 Dormer Place\, Leamington Spa\, Warwickshire\, CV32 5AA\, United Kingdom
END:VEVENT
BEGIN:VEVENT
DTSTART;TZID=Europe/London:20230330T180000
DTEND;TZID=Europe/London:20230330T191500
DTSTAMP:20260421T032941
CREATED:20230206T091932Z
LAST-MODIFIED:20230206T091932Z
UID:13226-1680199200-1680203700@leamingtonyogacentre.co.uk
SUMMARY:Beginners 2nd Module B
DESCRIPTION:
URL:https://leamingtonyogacentre.co.uk/event/beginners-2nd-module-b-20/
LOCATION:15 Dormer Place\, Leamington Spa\, Warwickshire\, CV32 5AA\, United Kingdom
END:VEVENT
BEGIN:VEVENT
DTSTART;TZID=Europe/London:20230330T193000
DTEND;TZID=Europe/London:20230330T210000
DTSTAMP:20260421T032941
CREATED:20230130T163033Z
LAST-MODIFIED:20230130T163033Z
UID:13069-1680204600-1680210000@leamingtonyogacentre.co.uk
SUMMARY:Dynamic Hatha Yoga
DESCRIPTION:
URL:https://leamingtonyogacentre.co.uk/event/dynamic-hatha-yoga-312/
LOCATION:15 Dormer Place\, Leamington Spa\, Warwickshire\, CV32 5AA\, United Kingdom
END:VEVENT
END:VCALENDAR