BEGIN:VCALENDAR
VERSION:2.0
PRODID:-//Leamington Yoga Instructors Therapy Classes - The Heart of Yoga - ECPv4.5.13//NONSGML v1.0//EN
CALSCALE:GREGORIAN
METHOD:PUBLISH
X-WR-CALNAME:Leamington Yoga Instructors Therapy Classes - The Heart of Yoga
X-ORIGINAL-URL:https://leamingtonyogacentre.co.uk
X-WR-CALDESC:Events for Leamington Yoga Instructors Therapy Classes - The Heart of Yoga
BEGIN:VEVENT
DTSTART;TZID=Europe/London:20230323T120000
DTEND;TZID=Europe/London:20230323T130000
DTSTAMP:20260421T051905
CREATED:20230106T125256Z
LAST-MODIFIED:20230106T125300Z
UID:12957-1679572800-1679576400@leamingtonyogacentre.co.uk
SUMMARY:Pure Yoga
DESCRIPTION:
URL:https://leamingtonyogacentre.co.uk/event/pure-yoga-207/
LOCATION:15 Dormer Place\, Leamington Spa\, Warwickshire\, CV32 5AA\, United Kingdom
END:VEVENT
BEGIN:VEVENT
DTSTART;TZID=Europe/London:20230323T163000
DTEND;TZID=Europe/London:20230323T173000
DTSTAMP:20260421T051905
CREATED:20230116T100010Z
LAST-MODIFIED:20230116T100010Z
UID:12997-1679589000-1679592600@leamingtonyogacentre.co.uk
SUMMARY:Back Care Yoga
DESCRIPTION:
URL:https://leamingtonyogacentre.co.uk/event/back-care-yoga-674/
LOCATION:15 Dormer Place\, Leamington Spa\, Warwickshire\, CV32 5AA\, United Kingdom
END:VEVENT
BEGIN:VEVENT
DTSTART;TZID=Europe/London:20230323T180000
DTEND;TZID=Europe/London:20230323T191500
DTSTAMP:20260421T051905
CREATED:20230206T091709Z
LAST-MODIFIED:20230206T091709Z
UID:13223-1679594400-1679598900@leamingtonyogacentre.co.uk
SUMMARY:Beginners 2nd Module B
DESCRIPTION:
URL:https://leamingtonyogacentre.co.uk/event/beginners-2nd-module-b-19/
LOCATION:15 Dormer Place\, Leamington Spa\, Warwickshire\, CV32 5AA\, United Kingdom
END:VEVENT
BEGIN:VEVENT
DTSTART;TZID=Europe/London:20230323T193000
DTEND;TZID=Europe/London:20230323T210000
DTSTAMP:20260421T051905
CREATED:20230130T162751Z
LAST-MODIFIED:20230130T162751Z
UID:13065-1679599800-1679605200@leamingtonyogacentre.co.uk
SUMMARY:Dynamic Hatha Yoga
DESCRIPTION:
URL:https://leamingtonyogacentre.co.uk/event/dynamic-hatha-yoga-310/
LOCATION:15 Dormer Place\, Leamington Spa\, Warwickshire\, CV32 5AA\, United Kingdom
END:VEVENT
END:VCALENDAR