BEGIN:VCALENDAR
VERSION:2.0
PRODID:-//Leamington Yoga Instructors Therapy Classes - The Heart of Yoga - ECPv4.5.13//NONSGML v1.0//EN
CALSCALE:GREGORIAN
METHOD:PUBLISH
X-WR-CALNAME:Leamington Yoga Instructors Therapy Classes - The Heart of Yoga
X-ORIGINAL-URL:https://leamingtonyogacentre.co.uk
X-WR-CALDESC:Events for Leamington Yoga Instructors Therapy Classes - The Heart of Yoga
BEGIN:VEVENT
DTSTART;TZID=Europe/London:20230321T070000
DTEND;TZID=Europe/London:20230321T083000
DTSTAMP:20260421T051728
CREATED:20230106T124440Z
LAST-MODIFIED:20230106T124440Z
UID:12940-1679382000-1679387400@leamingtonyogacentre.co.uk
SUMMARY:Morning Yoga Practice
DESCRIPTION:
URL:https://leamingtonyogacentre.co.uk/event/morning-yoga-practice-253/
LOCATION:15 Dormer Place\, Leamington Spa\, Warwickshire\, CV32 5AA\, United Kingdom
END:VEVENT
BEGIN:VEVENT
DTSTART;TZID=Europe/London:20230321T123000
DTEND;TZID=Europe/London:20230321T133000
DTSTAMP:20260421T051728
CREATED:20230106T125025Z
LAST-MODIFIED:20230106T125025Z
UID:12952-1679401800-1679405400@leamingtonyogacentre.co.uk
SUMMARY:Pure Yoga
DESCRIPTION:
URL:https://leamingtonyogacentre.co.uk/event/pure-yoga-204/
LOCATION:15 Dormer Place\, Leamington Spa\, Warwickshire\, CV32 5AA\, United Kingdom
END:VEVENT
BEGIN:VEVENT
DTSTART;TZID=Europe/London:20230321T163000
DTEND;TZID=Europe/London:20230321T173000
DTSTAMP:20260421T051728
CREATED:20230116T095608Z
LAST-MODIFIED:20230116T095608Z
UID:12989-1679416200-1679419800@leamingtonyogacentre.co.uk
SUMMARY:Back Care Yoga
DESCRIPTION:
URL:https://leamingtonyogacentre.co.uk/event/back-care-yoga-669/
LOCATION:15 Dormer Place\, Leamington Spa\, Warwickshire\, CV32 5AA\, United Kingdom
END:VEVENT
BEGIN:VEVENT
DTSTART;TZID=Europe/London:20230321T180000
DTEND;TZID=Europe/London:20230321T190000
DTSTAMP:20260421T051728
CREATED:20230110T134406Z
LAST-MODIFIED:20230111T075934Z
UID:12963-1679421600-1679425200@leamingtonyogacentre.co.uk
SUMMARY:Hatha Hour
DESCRIPTION:
URL:https://leamingtonyogacentre.co.uk/event/hatha-hour-1150/
LOCATION:15 Dormer Place\, Leamington Spa\, Warwickshire\, CV32 5AA\, United Kingdom
END:VEVENT
BEGIN:VEVENT
DTSTART;TZID=Europe/London:20230321T193000
DTEND;TZID=Europe/London:20230321T204500
DTSTAMP:20260421T051728
CREATED:20230130T162706Z
LAST-MODIFIED:20230130T163415Z
UID:13064-1679427000-1679431500@leamingtonyogacentre.co.uk
SUMMARY:Dynamic Hatha Yoga
DESCRIPTION:
URL:https://leamingtonyogacentre.co.uk/event/dynamic-hatha-yoga-309/
LOCATION:15 Dormer Place\, Leamington Spa\, Warwickshire\, CV32 5AA\, United Kingdom
END:VEVENT
END:VCALENDAR