BEGIN:VCALENDAR
VERSION:2.0
PRODID:-//Leamington Yoga Instructors Therapy Classes - The Heart of Yoga - ECPv4.5.13//NONSGML v1.0//EN
CALSCALE:GREGORIAN
METHOD:PUBLISH
X-WR-CALNAME:Leamington Yoga Instructors Therapy Classes - The Heart of Yoga
X-ORIGINAL-URL:https://leamingtonyogacentre.co.uk
X-WR-CALDESC:Events for Leamington Yoga Instructors Therapy Classes - The Heart of Yoga
BEGIN:VEVENT
DTSTART;TZID=Europe/London:20230221T070000
DTEND;TZID=Europe/London:20230221T083000
DTSTAMP:20260421T065217
CREATED:20221206T104300Z
LAST-MODIFIED:20221206T104300Z
UID:12760-1676962800-1676968200@leamingtonyogacentre.co.uk
SUMMARY:Morning Yoga Practice
DESCRIPTION:
URL:https://leamingtonyogacentre.co.uk/event/morning-yoga-practice-249/
LOCATION:15 Dormer Place\, Leamington Spa\, Warwickshire\, CV32 5AA\, United Kingdom
END:VEVENT
BEGIN:VEVENT
DTSTART;TZID=Europe/London:20230221T123000
DTEND;TZID=Europe/London:20230221T133000
DTSTAMP:20260421T065217
CREATED:20221206T105040Z
LAST-MODIFIED:20221206T105040Z
UID:12773-1676982600-1676986200@leamingtonyogacentre.co.uk
SUMMARY:Pure Yoga
DESCRIPTION:
URL:https://leamingtonyogacentre.co.uk/event/pure-yoga-198/
LOCATION:15 Dormer Place\, Leamington Spa\, Warwickshire\, CV32 5AA\, United Kingdom
END:VEVENT
BEGIN:VEVENT
DTSTART;TZID=Europe/London:20230221T163000
DTEND;TZID=Europe/London:20230221T173000
DTSTAMP:20260421T065217
CREATED:20221230T095947Z
LAST-MODIFIED:20221230T095947Z
UID:12807-1676997000-1677000600@leamingtonyogacentre.co.uk
SUMMARY:Back Care Yoga
DESCRIPTION:
URL:https://leamingtonyogacentre.co.uk/event/back-care-yoga-647/
LOCATION:15 Dormer Place\, Leamington Spa\, Warwickshire\, CV32 5AA\, United Kingdom
END:VEVENT
BEGIN:VEVENT
DTSTART;TZID=Europe/London:20230221T180000
DTEND;TZID=Europe/London:20230221T190000
DTSTAMP:20260421T065217
CREATED:20230103T121615Z
LAST-MODIFIED:20230103T121615Z
UID:12868-1677002400-1677006000@leamingtonyogacentre.co.uk
SUMMARY:Hatha Hour
DESCRIPTION:
URL:https://leamingtonyogacentre.co.uk/event/hatha-hour-1137/
LOCATION:15 Dormer Place\, Leamington Spa\, Warwickshire\, CV32 5AA\, United Kingdom
END:VEVENT
BEGIN:VEVENT
DTSTART;TZID=Europe/London:20230221T193000
DTEND;TZID=Europe/London:20230221T204500
DTSTAMP:20260421T065217
CREATED:20230104T161831Z
LAST-MODIFIED:20230104T161831Z
UID:12902-1677007800-1677012300@leamingtonyogacentre.co.uk
SUMMARY:Dynamic Hatha Yoga
DESCRIPTION:
URL:https://leamingtonyogacentre.co.uk/event/dynamic-hatha-yoga-300/
LOCATION:15 Dormer Place\, Leamington Spa\, Warwickshire\, CV32 5AA\, United Kingdom
END:VEVENT
END:VCALENDAR