BEGIN:VCALENDAR
VERSION:2.0
PRODID:-//Leamington Yoga Instructors Therapy Classes - The Heart of Yoga - ECPv4.5.13//NONSGML v1.0//EN
CALSCALE:GREGORIAN
METHOD:PUBLISH
X-WR-CALNAME:Leamington Yoga Instructors Therapy Classes - The Heart of Yoga
X-ORIGINAL-URL:https://leamingtonyogacentre.co.uk
X-WR-CALDESC:Events for Leamington Yoga Instructors Therapy Classes - The Heart of Yoga
BEGIN:VEVENT
DTSTART;TZID=Europe/London:20230207T070000
DTEND;TZID=Europe/London:20230207T083000
DTSTAMP:20260421T065246
CREATED:20221206T104104Z
LAST-MODIFIED:20221206T104104Z
UID:12757-1675753200-1675758600@leamingtonyogacentre.co.uk
SUMMARY:Morning Yoga Practice
DESCRIPTION:
URL:https://leamingtonyogacentre.co.uk/event/morning-yoga-practice-247/
LOCATION:15 Dormer Place\, Leamington Spa\, Warwickshire\, CV32 5AA\, United Kingdom
END:VEVENT
BEGIN:VEVENT
DTSTART;TZID=Europe/London:20230207T123000
DTEND;TZID=Europe/London:20230207T133000
DTSTAMP:20260421T065246
CREATED:20221206T104632Z
LAST-MODIFIED:20221206T104632Z
UID:12765-1675773000-1675776600@leamingtonyogacentre.co.uk
SUMMARY:Pure Yoga
DESCRIPTION:
URL:https://leamingtonyogacentre.co.uk/event/pure-yoga-193/
LOCATION:15 Dormer Place\, Leamington Spa\, Warwickshire\, CV32 5AA\, United Kingdom
END:VEVENT
BEGIN:VEVENT
DTSTART;TZID=Europe/London:20230207T163000
DTEND;TZID=Europe/London:20230207T173000
DTSTAMP:20260421T065246
CREATED:20221230T095824Z
LAST-MODIFIED:20221230T095824Z
UID:12804-1675787400-1675791000@leamingtonyogacentre.co.uk
SUMMARY:Back Care Yoga
DESCRIPTION:
URL:https://leamingtonyogacentre.co.uk/event/back-care-yoga-645/
LOCATION:15 Dormer Place\, Leamington Spa\, Warwickshire\, CV32 5AA\, United Kingdom
END:VEVENT
BEGIN:VEVENT
DTSTART;TZID=Europe/London:20230207T180000
DTEND;TZID=Europe/London:20230207T190000
DTSTAMP:20260421T065246
CREATED:20230104T160846Z
LAST-MODIFIED:20230104T160846Z
UID:12882-1675792800-1675796400@leamingtonyogacentre.co.uk
SUMMARY:Hatha Hour
DESCRIPTION:
URL:https://leamingtonyogacentre.co.uk/event/hatha-hour-1139/
LOCATION:15 Dormer Place\, Leamington Spa\, Warwickshire\, CV32 5AA\, United Kingdom
END:VEVENT
BEGIN:VEVENT
DTSTART;TZID=Europe/London:20230207T193000
DTEND;TZID=Europe/London:20230207T204500
DTSTAMP:20260421T065246
CREATED:20221117T090824Z
LAST-MODIFIED:20221120T150825Z
UID:12624-1675798200-1675802700@leamingtonyogacentre.co.uk
SUMMARY:Dynamic Hatha Yoga
DESCRIPTION:
URL:https://leamingtonyogacentre.co.uk/event/dynamic-hatha-yoga-292/
LOCATION:15 Dormer Place\, Leamington Spa\, Warwickshire\, CV32 5AA\, United Kingdom
END:VEVENT
END:VCALENDAR