BEGIN:VCALENDAR
VERSION:2.0
PRODID:-//Leamington Yoga Instructors Therapy Classes - The Heart of Yoga - ECPv4.5.13//NONSGML v1.0//EN
CALSCALE:GREGORIAN
METHOD:PUBLISH
X-WR-CALNAME:Leamington Yoga Instructors Therapy Classes - The Heart of Yoga
X-ORIGINAL-URL:https://leamingtonyogacentre.co.uk
X-WR-CALDESC:Events for Leamington Yoga Instructors Therapy Classes - The Heart of Yoga
BEGIN:VEVENT
DTSTART;TZID=Europe/London:20230206T080000
DTEND;TZID=Europe/London:20230206T170000
DTSTAMP:20260421T065247
CREATED:20230206T091452Z
LAST-MODIFIED:20230206T091452Z
UID:13218-1675670400-1675702800@leamingtonyogacentre.co.uk
SUMMARY:Beginners 2nd Module B
DESCRIPTION:
URL:https://leamingtonyogacentre.co.uk/event/beginners-2nd-module-b-18/
LOCATION:15 Dormer Place\, Leamington Spa\, Warwickshire\, CV32 5AA\, United Kingdom
END:VEVENT
BEGIN:VEVENT
DTSTART;TZID=Europe/London:20230206T103000
DTEND;TZID=Europe/London:20230206T113000
DTSTAMP:20260421T065247
CREATED:20221102T183859Z
LAST-MODIFIED:20221120T151801Z
UID:12493-1675679400-1675683000@leamingtonyogacentre.co.uk
SUMMARY:Hatha Hour
DESCRIPTION:
URL:https://leamingtonyogacentre.co.uk/event/hatha-hour-1107/
LOCATION:15 Dormer Place\, Leamington Spa\, Warwickshire\, CV32 5AA\, United Kingdom
END:VEVENT
BEGIN:VEVENT
DTSTART;TZID=Europe/London:20230206T180000
DTEND;TZID=Europe/London:20230206T190000
DTSTAMP:20260421T065247
CREATED:20221205T115521Z
LAST-MODIFIED:20221205T120306Z
UID:12731-1675706400-1675710000@leamingtonyogacentre.co.uk
SUMMARY:Hatha Hour
DESCRIPTION:
URL:https://leamingtonyogacentre.co.uk/event/hatha-hour-1123/
LOCATION:15 Dormer Place\, Leamington Spa\, Warwickshire\, CV32 5AA\, United Kingdom
END:VEVENT
BEGIN:VEVENT
DTSTART;TZID=Europe/London:20230206T191500
DTEND;TZID=Europe/London:20230206T204500
DTSTAMP:20260421T065247
CREATED:20221206T103151Z
LAST-MODIFIED:20230104T162327Z
UID:12748-1675710900-1675716300@leamingtonyogacentre.co.uk
SUMMARY:Andiappan Basics
DESCRIPTION:
URL:https://leamingtonyogacentre.co.uk/event/andiappan-basics-15/
LOCATION:15 Dormer Place\, Leamington Spa\, Warwickshire\, CV32 5AA\, United Kingdom
END:VEVENT
END:VCALENDAR