BEGIN:VCALENDAR
VERSION:2.0
PRODID:-//Leamington Yoga Instructors Therapy Classes - The Heart of Yoga - ECPv4.5.13//NONSGML v1.0//EN
CALSCALE:GREGORIAN
METHOD:PUBLISH
X-WR-CALNAME:Leamington Yoga Instructors Therapy Classes - The Heart of Yoga
X-ORIGINAL-URL:https://leamingtonyogacentre.co.uk
X-WR-CALDESC:Events for Leamington Yoga Instructors Therapy Classes - The Heart of Yoga
BEGIN:VEVENT
DTSTART;TZID=Europe/London:20230128T070000
DTEND;TZID=Europe/London:20230128T083000
DTSTAMP:20260423T091423
CREATED:20221120T152116Z
LAST-MODIFIED:20221120T152116Z
UID:12688-1674889200-1674894600@leamingtonyogacentre.co.uk
SUMMARY:Yoga Mentor/ Teacher Training
DESCRIPTION:
URL:https://leamingtonyogacentre.co.uk/event/yoga-mentor-teacher-training-22/
LOCATION:15 Dormer Place\, Leamington Spa\, Warwickshire\, CV32 5AA\, United Kingdom
END:VEVENT
BEGIN:VEVENT
DTSTART;TZID=Europe/London:20230128T090000
DTEND;TZID=Europe/London:20230128T103000
DTSTAMP:20260423T091423
CREATED:20221115T093904Z
LAST-MODIFIED:20221115T093904Z
UID:12598-1674896400-1674901800@leamingtonyogacentre.co.uk
SUMMARY:Andiappan Yoga
DESCRIPTION:
URL:https://leamingtonyogacentre.co.uk/event/andiappan-yoga-718/
LOCATION:15 Dormer Place\, Leamington Spa\, Warwickshire\, CV32 5AA\, United Kingdom
END:VEVENT
BEGIN:VEVENT
DTSTART;TZID=Europe/London:20230128T110000
DTEND;TZID=Europe/London:20230128T120000
DTSTAMP:20260423T091423
CREATED:20221107T122616Z
LAST-MODIFIED:20221107T122616Z
UID:12556-1674903600-1674907200@leamingtonyogacentre.co.uk
SUMMARY:Hatha Hour
DESCRIPTION:
URL:https://leamingtonyogacentre.co.uk/event/hatha-hour-1120/
LOCATION:15 Dormer Place\, Leamington Spa\, Warwickshire\, CV32 5AA\, United Kingdom
END:VEVENT
BEGIN:VEVENT
DTSTART;TZID=Europe/London:20230128T123000
DTEND;TZID=Europe/London:20230128T133000
DTSTAMP:20260423T091423
CREATED:20221120T145150Z
LAST-MODIFIED:20221120T145150Z
UID:12660-1674909000-1674912600@leamingtonyogacentre.co.uk
SUMMARY:Back Care Yoga
DESCRIPTION:
URL:https://leamingtonyogacentre.co.uk/event/back-care-yoga-644/
LOCATION:15 Dormer Place\, Leamington Spa\, Warwickshire\, CV32 5AA\, United Kingdom
END:VEVENT
END:VCALENDAR