BEGIN:VCALENDAR
VERSION:2.0
PRODID:-//Leamington Yoga Instructors Therapy Classes - The Heart of Yoga - ECPv4.5.13//NONSGML v1.0//EN
CALSCALE:GREGORIAN
METHOD:PUBLISH
X-WR-CALNAME:Leamington Yoga Instructors Therapy Classes - The Heart of Yoga
X-ORIGINAL-URL:https://leamingtonyogacentre.co.uk
X-WR-CALDESC:Events for Leamington Yoga Instructors Therapy Classes - The Heart of Yoga
BEGIN:VEVENT
DTSTART;TZID=Europe/London:20230121T090000
DTEND;TZID=Europe/London:20230121T103000
DTSTAMP:20260423T120604
CREATED:20221115T093528Z
LAST-MODIFIED:20221115T093528Z
UID:12594-1674291600-1674297000@leamingtonyogacentre.co.uk
SUMMARY:Andiappan Yoga
DESCRIPTION:
URL:https://leamingtonyogacentre.co.uk/event/andiappan-yoga-716/
LOCATION:15 Dormer Place\, Leamington Spa\, Warwickshire\, CV32 5AA\, United Kingdom
END:VEVENT
BEGIN:VEVENT
DTSTART;TZID=Europe/London:20230121T110000
DTEND;TZID=Europe/London:20230121T120000
DTSTAMP:20260423T120604
CREATED:20221107T122832Z
LAST-MODIFIED:20221107T122832Z
UID:12560-1674298800-1674302400@leamingtonyogacentre.co.uk
SUMMARY:Hatha Hour
DESCRIPTION:
URL:https://leamingtonyogacentre.co.uk/event/hatha-hour-1121/
LOCATION:15 Dormer Place\, Leamington Spa\, Warwickshire\, CV32 5AA\, United Kingdom
END:VEVENT
BEGIN:VEVENT
DTSTART;TZID=Europe/London:20230121T123000
DTEND;TZID=Europe/London:20230121T133000
DTSTAMP:20260423T120604
CREATED:20221120T144900Z
LAST-MODIFIED:20221120T144900Z
UID:12657-1674304200-1674307800@leamingtonyogacentre.co.uk
SUMMARY:Back Care Yoga
DESCRIPTION:
URL:https://leamingtonyogacentre.co.uk/event/back-care-yoga-642/
LOCATION:15 Dormer Place\, Leamington Spa\, Warwickshire\, CV32 5AA\, United Kingdom
END:VEVENT
END:VCALENDAR