BEGIN:VCALENDAR
VERSION:2.0
PRODID:-//Leamington Yoga Instructors Therapy Classes - The Heart of Yoga - ECPv4.5.13//NONSGML v1.0//EN
CALSCALE:GREGORIAN
METHOD:PUBLISH
X-WR-CALNAME:Leamington Yoga Instructors Therapy Classes - The Heart of Yoga
X-ORIGINAL-URL:https://leamingtonyogacentre.co.uk
X-WR-CALDESC:Events for Leamington Yoga Instructors Therapy Classes - The Heart of Yoga
BEGIN:VEVENT
DTSTART;TZID=Europe/London:20221208T120000
DTEND;TZID=Europe/London:20221208T130000
DTSTAMP:20260421T100256
CREATED:20221004T080559Z
LAST-MODIFIED:20221004T081426Z
UID:12318-1670500800-1670504400@leamingtonyogacentre.co.uk
SUMMARY:Pure Yoga
DESCRIPTION:
URL:https://leamingtonyogacentre.co.uk/event/pure-yoga-176/
LOCATION:15 Dormer Place\, Leamington Spa\, Warwickshire\, CV32 5AA\, United Kingdom
END:VEVENT
BEGIN:VEVENT
DTSTART;TZID=Europe/London:20221208T163000
DTEND;TZID=Europe/London:20221208T173000
DTSTAMP:20260421T100256
CREATED:20221007T072745Z
LAST-MODIFIED:20221007T072745Z
UID:12336-1670517000-1670520600@leamingtonyogacentre.co.uk
SUMMARY:Back Care Yoga
DESCRIPTION:
URL:https://leamingtonyogacentre.co.uk/event/back-care-yoga-613/
LOCATION:15 Dormer Place\, Leamington Spa\, Warwickshire\, CV32 5AA\, United Kingdom
END:VEVENT
BEGIN:VEVENT
DTSTART;TZID=Europe/London:20221208T180000
DTEND;TZID=Europe/London:20221208T190000
DTSTAMP:20260421T100256
CREATED:20221011T075735Z
LAST-MODIFIED:20221011T075735Z
UID:12405-1670522400-1670526000@leamingtonyogacentre.co.uk
SUMMARY:Hatha Hour
DESCRIPTION:
URL:https://leamingtonyogacentre.co.uk/event/hatha-hour-1090/
LOCATION:15 Dormer Place\, Leamington Spa\, Warwickshire\, CV32 5AA\, United Kingdom
END:VEVENT
BEGIN:VEVENT
DTSTART;TZID=Europe/London:20221208T180000
DTEND;TZID=Europe/London:20221208T190000
DTSTAMP:20260421T100256
CREATED:20221115T094354Z
LAST-MODIFIED:20221115T094354Z
UID:12602-1670522400-1670526000@leamingtonyogacentre.co.uk
SUMMARY:Yin Yoga
DESCRIPTION:
URL:https://leamingtonyogacentre.co.uk/event/yin-yoga-286/
LOCATION:15 Dormer Place\, Leamington Spa\, Warwickshire\, CV32 5AA\, United Kingdom
END:VEVENT
BEGIN:VEVENT
DTSTART;TZID=Europe/London:20221208T193000
DTEND;TZID=Europe/London:20221208T210000
DTSTAMP:20260421T100256
CREATED:20221010T071835Z
LAST-MODIFIED:20221010T071835Z
UID:12377-1670527800-1670533200@leamingtonyogacentre.co.uk
SUMMARY:Dynamic Hatha Yoga
DESCRIPTION:
URL:https://leamingtonyogacentre.co.uk/event/dynamic-hatha-yoga-280/
LOCATION:15 Dormer Place\, Leamington Spa\, Warwickshire\, CV32 5AA\, United Kingdom
END:VEVENT
END:VCALENDAR