BEGIN:VCALENDAR
VERSION:2.0
PRODID:-//Leamington Yoga Instructors Therapy Classes - The Heart of Yoga - ECPv4.5.13//NONSGML v1.0//EN
CALSCALE:GREGORIAN
METHOD:PUBLISH
X-WR-CALNAME:Leamington Yoga Instructors Therapy Classes - The Heart of Yoga
X-ORIGINAL-URL:https://leamingtonyogacentre.co.uk
X-WR-CALDESC:Events for Leamington Yoga Instructors Therapy Classes - The Heart of Yoga
BEGIN:VEVENT
DTSTART;TZID=Europe/London:20221205T103000
DTEND;TZID=Europe/London:20221205T113000
DTSTAMP:20260421T132651
CREATED:20221003T091956Z
LAST-MODIFIED:20221003T091956Z
UID:12292-1670236200-1670239800@leamingtonyogacentre.co.uk
SUMMARY:Hatha Hour
DESCRIPTION:
URL:https://leamingtonyogacentre.co.uk/event/hatha-hour-1080/
LOCATION:15 Dormer Place\, Leamington Spa\, Warwickshire\, CV32 5AA\, United Kingdom
END:VEVENT
BEGIN:VEVENT
DTSTART;TZID=Europe/London:20221205T180000
DTEND;TZID=Europe/London:20221205T190000
DTSTAMP:20260421T132651
CREATED:20221003T092057Z
LAST-MODIFIED:20221003T092057Z
UID:12293-1670263200-1670266800@leamingtonyogacentre.co.uk
SUMMARY:Hatha Hour
DESCRIPTION:
URL:https://leamingtonyogacentre.co.uk/event/hatha-hour-1081/
LOCATION:15 Dormer Place\, Leamington Spa\, Warwickshire\, CV32 5AA\, United Kingdom
END:VEVENT
BEGIN:VEVENT
DTSTART;TZID=Europe/London:20221205T191500
DTEND;TZID=Europe/London:20221205T203000
DTSTAMP:20260421T132651
CREATED:20221007T105131Z
LAST-MODIFIED:20221230T095122Z
UID:12368-1670267700-1670272200@leamingtonyogacentre.co.uk
SUMMARY:Andiappan Basics
DESCRIPTION:
URL:https://leamingtonyogacentre.co.uk/event/andiappan-basics-7/
LOCATION:15 Dormer Place\, Leamington Spa\, Warwickshire\, CV32 5AA\, United Kingdom
END:VEVENT
END:VCALENDAR