BEGIN:VCALENDAR
VERSION:2.0
PRODID:-//Leamington Yoga Instructors Therapy Classes - The Heart of Yoga - ECPv4.5.13//NONSGML v1.0//EN
CALSCALE:GREGORIAN
METHOD:PUBLISH
X-WR-CALNAME:Leamington Yoga Instructors Therapy Classes - The Heart of Yoga
X-ORIGINAL-URL:https://leamingtonyogacentre.co.uk
X-WR-CALDESC:Events for Leamington Yoga Instructors Therapy Classes - The Heart of Yoga
BEGIN:VEVENT
DTSTART;TZID=Europe/London:20221119T070000
DTEND;TZID=Europe/London:20221119T083000
DTSTAMP:20260421T112957
CREATED:20220927T083555Z
LAST-MODIFIED:20220927T083555Z
UID:12274-1668841200-1668846600@leamingtonyogacentre.co.uk
SUMMARY:Yoga Mentor/ Teacher Training
DESCRIPTION:
URL:https://leamingtonyogacentre.co.uk/event/yoga-mentor-teacher-training-14/
LOCATION:15 Dormer Place\, Leamington Spa\, Warwickshire\, CV32 5AA\, United Kingdom
END:VEVENT
BEGIN:VEVENT
DTSTART;TZID=Europe/London:20221119T090000
DTEND;TZID=Europe/London:20221119T103000
DTSTAMP:20260421T112957
CREATED:20220927T082859Z
LAST-MODIFIED:20220927T082859Z
UID:12261-1668848400-1668853800@leamingtonyogacentre.co.uk
SUMMARY:Andiappan Yoga
DESCRIPTION:
URL:https://leamingtonyogacentre.co.uk/event/andiappan-yoga-698/
LOCATION:15 Dormer Place\, Leamington Spa\, Warwickshire\, CV32 5AA\, United Kingdom
END:VEVENT
BEGIN:VEVENT
DTSTART;TZID=Europe/London:20221119T110000
DTEND;TZID=Europe/London:20221119T120000
DTSTAMP:20260421T112957
CREATED:20220908T072611Z
LAST-MODIFIED:20220908T072611Z
UID:12100-1668855600-1668859200@leamingtonyogacentre.co.uk
SUMMARY:Hatha Hour
DESCRIPTION:
URL:https://leamingtonyogacentre.co.uk/event/hatha-hour-1059/
LOCATION:15 Dormer Place\, Leamington Spa\, Warwickshire\, CV32 5AA\, United Kingdom
END:VEVENT
BEGIN:VEVENT
DTSTART;TZID=Europe/London:20221119T123000
DTEND;TZID=Europe/London:20221119T133000
DTSTAMP:20260421T112957
CREATED:20220908T073524Z
LAST-MODIFIED:20220908T073524Z
UID:12117-1668861000-1668864600@leamingtonyogacentre.co.uk
SUMMARY:Back Care Yoga
DESCRIPTION:
URL:https://leamingtonyogacentre.co.uk/event/back-care-yoga-596/
LOCATION:15 Dormer Place\, Leamington Spa\, Warwickshire\, CV32 5AA\, United Kingdom
END:VEVENT
BEGIN:VEVENT
DTSTART;TZID=Europe/London:20221119T183000
DTEND;TZID=Europe/London:20221119T193000
DTSTAMP:20260421T112957
CREATED:20220912T062749Z
LAST-MODIFIED:20220912T062749Z
UID:12167-1668882600-1668886200@leamingtonyogacentre.co.uk
SUMMARY:Yin Yoga
DESCRIPTION:
URL:https://leamingtonyogacentre.co.uk/event/yin-yoga-272/
LOCATION:15 Dormer Place\, Leamington Spa\, Warwickshire\, CV32 5AA\, United Kingdom
END:VEVENT
END:VCALENDAR