BEGIN:VCALENDAR
VERSION:2.0
PRODID:-//Leamington Yoga Instructors Therapy Classes - The Heart of Yoga - ECPv4.5.13//NONSGML v1.0//EN
CALSCALE:GREGORIAN
METHOD:PUBLISH
X-WR-CALNAME:Leamington Yoga Instructors Therapy Classes - The Heart of Yoga
X-ORIGINAL-URL:https://leamingtonyogacentre.co.uk
X-WR-CALDESC:Events for Leamington Yoga Instructors Therapy Classes - The Heart of Yoga
BEGIN:VEVENT
DTSTART;TZID=Europe/London:20221105T070000
DTEND;TZID=Europe/London:20221105T083000
DTSTAMP:20260421T112922
CREATED:20220905T104935Z
LAST-MODIFIED:20220905T104935Z
UID:12077-1667631600-1667637000@leamingtonyogacentre.co.uk
SUMMARY:Yoga Mentor/ Teacher Training
DESCRIPTION:
URL:https://leamingtonyogacentre.co.uk/event/yoga-mentor-teacher-training-12/
LOCATION:15 Dormer Place\, Leamington Spa\, Warwickshire\, CV32 5AA\, United Kingdom
END:VEVENT
BEGIN:VEVENT
DTSTART;TZID=Europe/London:20221105T090000
DTEND;TZID=Europe/London:20221105T103000
DTSTAMP:20260421T112922
CREATED:20220908T071646Z
LAST-MODIFIED:20220908T071646Z
UID:12080-1667638800-1667644200@leamingtonyogacentre.co.uk
SUMMARY:Andiappan Yoga
DESCRIPTION:
URL:https://leamingtonyogacentre.co.uk/event/andiappan-yoga-693/
LOCATION:15 Dormer Place\, Leamington Spa\, Warwickshire\, CV32 5AA\, United Kingdom
END:VEVENT
BEGIN:VEVENT
DTSTART;TZID=Europe/London:20221105T110000
DTEND;TZID=Europe/London:20221105T120000
DTSTAMP:20260421T112922
CREATED:20220908T072336Z
LAST-MODIFIED:20220908T072336Z
UID:12093-1667646000-1667649600@leamingtonyogacentre.co.uk
SUMMARY:Hatha Hour
DESCRIPTION:
URL:https://leamingtonyogacentre.co.uk/event/hatha-hour-1056/
LOCATION:15 Dormer Place\, Leamington Spa\, Warwickshire\, CV32 5AA\, United Kingdom
END:VEVENT
BEGIN:VEVENT
DTSTART;TZID=Europe/London:20221105T123000
DTEND;TZID=Europe/London:20221105T133000
DTSTAMP:20260421T112922
CREATED:20220908T073300Z
LAST-MODIFIED:20220908T073300Z
UID:12113-1667651400-1667655000@leamingtonyogacentre.co.uk
SUMMARY:Hatha Hour
DESCRIPTION:
URL:https://leamingtonyogacentre.co.uk/event/hatha-hour-1062/
LOCATION:15 Dormer Place\, Leamington Spa\, Warwickshire\, CV32 5AA\, United Kingdom
END:VEVENT
BEGIN:VEVENT
DTSTART;TZID=Europe/London:20221105T183000
DTEND;TZID=Europe/London:20221105T193000
DTSTAMP:20260421T112922
CREATED:20220912T062627Z
LAST-MODIFIED:20220912T062627Z
UID:12163-1667673000-1667676600@leamingtonyogacentre.co.uk
SUMMARY:Yin Yoga
DESCRIPTION:
URL:https://leamingtonyogacentre.co.uk/event/yin-yoga-270/
LOCATION:15 Dormer Place\, Leamington Spa\, Warwickshire\, CV32 5AA\, United Kingdom
END:VEVENT
END:VCALENDAR