BEGIN:VCALENDAR
VERSION:2.0
PRODID:-//Leamington Yoga Instructors Therapy Classes - The Heart of Yoga - ECPv4.5.13//NONSGML v1.0//EN
CALSCALE:GREGORIAN
METHOD:PUBLISH
X-WR-CALNAME:Leamington Yoga Instructors Therapy Classes - The Heart of Yoga
X-ORIGINAL-URL:https://leamingtonyogacentre.co.uk
X-WR-CALDESC:Events for Leamington Yoga Instructors Therapy Classes - The Heart of Yoga
BEGIN:VEVENT
DTSTART;TZID=Europe/London:20221006T120000
DTEND;TZID=Europe/London:20221006T130000
DTSTAMP:20260421T130025
CREATED:20220905T072654Z
LAST-MODIFIED:20220905T072654Z
UID:12027-1665057600-1665061200@leamingtonyogacentre.co.uk
SUMMARY:Pure Yoga
DESCRIPTION:
URL:https://leamingtonyogacentre.co.uk/event/pure-yoga-161/
LOCATION:15 Dormer Place\, Leamington Spa\, Warwickshire\, CV32 5AA\, United Kingdom
END:VEVENT
BEGIN:VEVENT
DTSTART;TZID=Europe/London:20221006T163000
DTEND;TZID=Europe/London:20221006T173000
DTSTAMP:20260421T130025
CREATED:20220905T073225Z
LAST-MODIFIED:20220905T073225Z
UID:12037-1665073800-1665077400@leamingtonyogacentre.co.uk
SUMMARY:Back Care Yoga
DESCRIPTION:
URL:https://leamingtonyogacentre.co.uk/event/back-care-yoga-588/
LOCATION:15 Dormer Place\, Leamington Spa\, Warwickshire\, CV32 5AA\, United Kingdom
END:VEVENT
BEGIN:VEVENT
DTSTART;TZID=Europe/London:20221006T180000
DTEND;TZID=Europe/London:20221006T190000
DTSTAMP:20260421T130025
CREATED:20220905T073657Z
LAST-MODIFIED:20220905T073657Z
UID:12047-1665079200-1665082800@leamingtonyogacentre.co.uk
SUMMARY:Hatha Hour
DESCRIPTION:
URL:https://leamingtonyogacentre.co.uk/event/hatha-hour-1048/
LOCATION:15 Dormer Place\, Leamington Spa\, Warwickshire\, CV32 5AA\, United Kingdom
END:VEVENT
BEGIN:VEVENT
DTSTART;TZID=Europe/London:20221006T193000
DTEND;TZID=Europe/London:20221006T210000
DTSTAMP:20260421T130025
CREATED:20220901T091644Z
LAST-MODIFIED:20220901T091644Z
UID:12020-1665084600-1665090000@leamingtonyogacentre.co.uk
SUMMARY:Dynamic Hatha Yoga
DESCRIPTION:
URL:https://leamingtonyogacentre.co.uk/event/dynamic-hatha-yoga-265/
LOCATION:15 Dormer Place\, Leamington Spa\, Warwickshire\, CV32 5AA\, United Kingdom
END:VEVENT
END:VCALENDAR