BEGIN:VCALENDAR
VERSION:2.0
PRODID:-//Leamington Yoga Instructors Therapy Classes - The Heart of Yoga - ECPv4.5.13//NONSGML v1.0//EN
CALSCALE:GREGORIAN
METHOD:PUBLISH
X-WR-CALNAME:Leamington Yoga Instructors Therapy Classes - The Heart of Yoga
X-ORIGINAL-URL:https://leamingtonyogacentre.co.uk
X-WR-CALDESC:Events for Leamington Yoga Instructors Therapy Classes - The Heart of Yoga
BEGIN:VEVENT
DTSTART;TZID=Europe/London:20220913T070000
DTEND;TZID=Europe/London:20220913T083000
DTSTAMP:20260421T143522
CREATED:20220816T170738Z
LAST-MODIFIED:20220822T113212Z
UID:11809-1663052400-1663057800@leamingtonyogacentre.co.uk
SUMMARY:Morning Yoga Practice
DESCRIPTION:
URL:https://leamingtonyogacentre.co.uk/event/morning-yoga-practice-225/
LOCATION:15 Dormer Place\, Leamington Spa\, Warwickshire\, CV32 5AA\, United Kingdom
END:VEVENT
BEGIN:VEVENT
DTSTART;TZID=Europe/London:20220913T123000
DTEND;TZID=Europe/London:20220913T133000
DTSTAMP:20260421T143522
CREATED:20220816T170045Z
LAST-MODIFIED:20220816T170045Z
UID:11797-1663072200-1663075800@leamingtonyogacentre.co.uk
SUMMARY:Pure Yoga
DESCRIPTION:
URL:https://leamingtonyogacentre.co.uk/event/pure-yoga-151/
LOCATION:15 Dormer Place\, Leamington Spa\, Warwickshire\, CV32 5AA\, United Kingdom
END:VEVENT
BEGIN:VEVENT
DTSTART;TZID=Europe/London:20220913T163000
DTEND;TZID=Europe/London:20220913T173000
DTSTAMP:20260421T143522
CREATED:20220704T083432Z
LAST-MODIFIED:20220704T084252Z
UID:11691-1663086600-1663090200@leamingtonyogacentre.co.uk
SUMMARY:Back Care Yoga
DESCRIPTION:
URL:https://leamingtonyogacentre.co.uk/event/back-care-yoga-559/
LOCATION:15 Dormer Place\, Leamington Spa\, Warwickshire\, CV32 5AA\, United Kingdom
END:VEVENT
BEGIN:VEVENT
DTSTART;TZID=Europe/London:20220913T180000
DTEND;TZID=Europe/London:20220913T190000
DTSTAMP:20260421T143522
CREATED:20220816T171158Z
LAST-MODIFIED:20220816T171158Z
UID:11818-1663092000-1663095600@leamingtonyogacentre.co.uk
SUMMARY:Hatha Hour
DESCRIPTION:
URL:https://leamingtonyogacentre.co.uk/event/hatha-hour-1026/
LOCATION:15 Dormer Place\, Leamington Spa\, Warwickshire\, CV32 5AA\, United Kingdom
END:VEVENT
BEGIN:VEVENT
DTSTART;TZID=Europe/London:20220913T193000
DTEND;TZID=Europe/London:20220913T204500
DTSTAMP:20260421T143522
CREATED:20220704T154815Z
LAST-MODIFIED:20220704T154815Z
UID:11737-1663097400-1663101900@leamingtonyogacentre.co.uk
SUMMARY:Dynamic Hatha Yoga
DESCRIPTION:
URL:https://leamingtonyogacentre.co.uk/event/dynamic-hatha-yoga-255/
LOCATION:15 Dormer Place\, Leamington Spa\, Warwickshire\, CV32 5AA\, United Kingdom
END:VEVENT
END:VCALENDAR