BEGIN:VCALENDAR
VERSION:2.0
PRODID:-//Leamington Yoga Instructors Therapy Classes - The Heart of Yoga - ECPv4.5.13//NONSGML v1.0//EN
CALSCALE:GREGORIAN
METHOD:PUBLISH
X-WR-CALNAME:Leamington Yoga Instructors Therapy Classes - The Heart of Yoga
X-ORIGINAL-URL:https://leamingtonyogacentre.co.uk
X-WR-CALDESC:Events for Leamington Yoga Instructors Therapy Classes - The Heart of Yoga
BEGIN:VEVENT
DTSTART;TZID=Europe/London:20220820T070000
DTEND;TZID=Europe/London:20220820T083000
DTSTAMP:20260421T185813
CREATED:20220704T181053Z
LAST-MODIFIED:20220704T181053Z
UID:11746-1660978800-1660984200@leamingtonyogacentre.co.uk
SUMMARY:Yoga Mentor/ Teacher Training
DESCRIPTION:
URL:https://leamingtonyogacentre.co.uk/event/yoga-mentor-teacher-training/
LOCATION:15 Dormer Place\, Leamington Spa\, Warwickshire\, CV32 5AA\, United Kingdom
END:VEVENT
BEGIN:VEVENT
DTSTART;TZID=Europe/London:20220820T090000
DTEND;TZID=Europe/London:20220820T103000
DTSTAMP:20260421T185813
CREATED:20220620T065817Z
LAST-MODIFIED:20220620T065817Z
UID:11634-1660986000-1660991400@leamingtonyogacentre.co.uk
SUMMARY:Andiappan Yoga
DESCRIPTION:
URL:https://leamingtonyogacentre.co.uk/event/andiappan-yoga-674/
LOCATION:15 Dormer Place\, Leamington Spa\, Warwickshire\, CV32 5AA\, United Kingdom
END:VEVENT
BEGIN:VEVENT
DTSTART;TZID=Europe/London:20220820T110000
DTEND;TZID=Europe/London:20220820T120000
DTSTAMP:20260421T185813
CREATED:20220704T181808Z
LAST-MODIFIED:20220704T181808Z
UID:11758-1660993200-1660996800@leamingtonyogacentre.co.uk
SUMMARY:Hatha Hour
DESCRIPTION:
URL:https://leamingtonyogacentre.co.uk/event/hatha-hour-1019/
LOCATION:15 Dormer Place\, Leamington Spa\, Warwickshire\, CV32 5AA\, United Kingdom
END:VEVENT
END:VCALENDAR