BEGIN:VCALENDAR
VERSION:2.0
PRODID:-//Leamington Yoga Instructors Therapy Classes - The Heart of Yoga - ECPv4.5.13//NONSGML v1.0//EN
CALSCALE:GREGORIAN
METHOD:PUBLISH
X-WR-CALNAME:Leamington Yoga Instructors Therapy Classes - The Heart of Yoga
X-ORIGINAL-URL:https://leamingtonyogacentre.co.uk
X-WR-CALDESC:Events for Leamington Yoga Instructors Therapy Classes - The Heart of Yoga
BEGIN:VEVENT
DTSTART;TZID=Europe/London:20220816T070000
DTEND;TZID=Europe/London:20220816T083000
DTSTAMP:20260421T160712
CREATED:20220606T084614Z
LAST-MODIFIED:20220606T084614Z
UID:11585-1660633200-1660638600@leamingtonyogacentre.co.uk
SUMMARY:Morning Yoga Practice
DESCRIPTION:
URL:https://leamingtonyogacentre.co.uk/event/morning-yoga-practice-221/
LOCATION:15 Dormer Place\, Leamington Spa\, Warwickshire\, CV32 5AA\, United Kingdom
END:VEVENT
BEGIN:VEVENT
DTSTART;TZID=Europe/London:20220816T123000
DTEND;TZID=Europe/London:20220816T133000
DTSTAMP:20260421T160712
CREATED:20220606T085342Z
LAST-MODIFIED:20220606T085342Z
UID:11600-1660653000-1660656600@leamingtonyogacentre.co.uk
SUMMARY:Pure Yoga
DESCRIPTION:
URL:https://leamingtonyogacentre.co.uk/event/pure-yoga-144/
LOCATION:15 Dormer Place\, Leamington Spa\, Warwickshire\, CV32 5AA\, United Kingdom
END:VEVENT
BEGIN:VEVENT
DTSTART;TZID=Europe/London:20220816T163000
DTEND;TZID=Europe/London:20220816T173000
DTSTAMP:20260421T160712
CREATED:20220704T083444Z
LAST-MODIFIED:20220704T083554Z
UID:11692-1660667400-1660671000@leamingtonyogacentre.co.uk
SUMMARY:Back Care Yoga
DESCRIPTION:
URL:https://leamingtonyogacentre.co.uk/event/back-care-yoga-560/
LOCATION:15 Dormer Place\, Leamington Spa\, Warwickshire\, CV32 5AA\, United Kingdom
END:VEVENT
BEGIN:VEVENT
DTSTART;TZID=Europe/London:20220816T180000
DTEND;TZID=Europe/London:20220816T190000
DTSTAMP:20260421T160712
CREATED:20220704T090448Z
LAST-MODIFIED:20220704T090448Z
UID:11706-1660672800-1660676400@leamingtonyogacentre.co.uk
SUMMARY:Hatha Hour
DESCRIPTION:
URL:https://leamingtonyogacentre.co.uk/event/hatha-hour-1016/
LOCATION:15 Dormer Place\, Leamington Spa\, Warwickshire\, CV32 5AA\, United Kingdom
END:VEVENT
BEGIN:VEVENT
DTSTART;TZID=Europe/London:20220816T193000
DTEND;TZID=Europe/London:20220816T204500
DTSTAMP:20260421T160712
CREATED:20220704T091130Z
LAST-MODIFIED:20220704T091130Z
UID:11717-1660678200-1660682700@leamingtonyogacentre.co.uk
SUMMARY:Dynamic Hatha Yoga
DESCRIPTION:
URL:https://leamingtonyogacentre.co.uk/event/dynamic-hatha-yoga-245/
LOCATION:15 Dormer Place\, Leamington Spa\, Warwickshire\, CV32 5AA\, United Kingdom
END:VEVENT
END:VCALENDAR