BEGIN:VCALENDAR
VERSION:2.0
PRODID:-//Leamington Yoga Instructors Therapy Classes - The Heart of Yoga - ECPv4.5.13//NONSGML v1.0//EN
CALSCALE:GREGORIAN
METHOD:PUBLISH
X-WR-CALNAME:Leamington Yoga Instructors Therapy Classes - The Heart of Yoga
X-ORIGINAL-URL:https://leamingtonyogacentre.co.uk
X-WR-CALDESC:Events for Leamington Yoga Instructors Therapy Classes - The Heart of Yoga
BEGIN:VEVENT
DTSTART;TZID=Europe/London:20220723T070000
DTEND;TZID=Europe/London:20220723T083000
DTSTAMP:20260421T174203
CREATED:20220516T090155Z
LAST-MODIFIED:20220516T090155Z
UID:11518-1658559600-1658565000@leamingtonyogacentre.co.uk
SUMMARY:Yoga Mentor/ Teacher Training (Special Batch)
DESCRIPTION:
URL:https://leamingtonyogacentre.co.uk/event/yoga-mentor-teacher-training-special-batch-7/
LOCATION:15 Dormer Place\, Leamington Spa\, Warwickshire\, CV32 5AA\, United Kingdom
END:VEVENT
BEGIN:VEVENT
DTSTART;TZID=Europe/London:20220723T070000
DTEND;TZID=Europe/London:20220723T083000
DTSTAMP:20260421T174203
CREATED:20220516T091425Z
LAST-MODIFIED:20220516T091425Z
UID:11537-1658559600-1658565000@leamingtonyogacentre.co.uk
SUMMARY:Andiappan Yoga
DESCRIPTION:
URL:https://leamingtonyogacentre.co.uk/event/andiappan-yoga-667/
LOCATION:15 Dormer Place\, Leamington Spa\, Warwickshire\, CV32 5AA\, United Kingdom
END:VEVENT
BEGIN:VEVENT
DTSTART;TZID=Europe/London:20220723T110000
DTEND;TZID=Europe/London:20220723T120000
DTSTAMP:20260421T174203
CREATED:20220516T090546Z
LAST-MODIFIED:20220516T090546Z
UID:11525-1658574000-1658577600@leamingtonyogacentre.co.uk
SUMMARY:Hatha Hour
DESCRIPTION:
URL:https://leamingtonyogacentre.co.uk/event/hatha-hour-983/
LOCATION:15 Dormer Place\, Leamington Spa\, Warwickshire\, CV32 5AA\, United Kingdom
END:VEVENT
BEGIN:VEVENT
DTSTART;TZID=Europe/London:20220723T123000
DTEND;TZID=Europe/London:20220723T133000
DTSTAMP:20260421T174203
CREATED:20220516T064743Z
LAST-MODIFIED:20220516T064743Z
UID:11502-1658579400-1658583000@leamingtonyogacentre.co.uk
SUMMARY:Back Care Yoga
DESCRIPTION:
URL:https://leamingtonyogacentre.co.uk/event/back-care-yoga-548/
LOCATION:15 Dormer Place\, Leamington Spa\, Warwickshire\, CV32 5AA\, United Kingdom
END:VEVENT
END:VCALENDAR