BEGIN:VCALENDAR
VERSION:2.0
PRODID:-//Leamington Yoga Instructors Therapy Classes - The Heart of Yoga - ECPv4.5.13//NONSGML v1.0//EN
CALSCALE:GREGORIAN
METHOD:PUBLISH
X-WR-CALNAME:Leamington Yoga Instructors Therapy Classes - The Heart of Yoga
X-ORIGINAL-URL:https://leamingtonyogacentre.co.uk
X-WR-CALDESC:Events for Leamington Yoga Instructors Therapy Classes - The Heart of Yoga
BEGIN:VEVENT
DTSTART;TZID=Europe/London:20220718T103000
DTEND;TZID=Europe/London:20220718T113000
DTSTAMP:20260421T192118
CREATED:20220504T171041Z
LAST-MODIFIED:20220504T171041Z
UID:11371-1658140200-1658143800@leamingtonyogacentre.co.uk
SUMMARY:Hatha Hour
DESCRIPTION:
URL:https://leamingtonyogacentre.co.uk/event/hatha-hour-970/
LOCATION:15 Dormer Place\, Leamington Spa\, Warwickshire\, CV32 5AA\, United Kingdom
END:VEVENT
BEGIN:VEVENT
DTSTART;TZID=Europe/London:20220718T180000
DTEND;TZID=Europe/London:20220718T190000
DTSTAMP:20260421T192118
CREATED:20220504T171030Z
LAST-MODIFIED:20220504T171030Z
UID:11373-1658167200-1658170800@leamingtonyogacentre.co.uk
SUMMARY:Hatha Hour
DESCRIPTION:
URL:https://leamingtonyogacentre.co.uk/event/hatha-hour-969/
LOCATION:15 Dormer Place\, Leamington Spa\, Warwickshire\, CV32 5AA\, United Kingdom
END:VEVENT
BEGIN:VEVENT
DTSTART;TZID=Europe/London:20220718T193000
DTEND;TZID=Europe/London:20220718T210000
DTSTAMP:20260421T192118
CREATED:20220505T090713Z
LAST-MODIFIED:20220505T090713Z
UID:11387-1658172600-1658178000@leamingtonyogacentre.co.uk
SUMMARY:Dynamic Vinyasa
DESCRIPTION:
URL:https://leamingtonyogacentre.co.uk/event/dynamic-vinyasa-267/
LOCATION:15 Dormer Place\, Leamington Spa\, Warwickshire\, CV32 5AA\, United Kingdom
END:VEVENT
END:VCALENDAR