BEGIN:VCALENDAR
VERSION:2.0
PRODID:-//Leamington Yoga Instructors Therapy Classes - The Heart of Yoga - ECPv4.5.13//NONSGML v1.0//EN
CALSCALE:GREGORIAN
METHOD:PUBLISH
X-WR-CALNAME:Leamington Yoga Instructors Therapy Classes - The Heart of Yoga
X-ORIGINAL-URL:https://leamingtonyogacentre.co.uk
X-WR-CALDESC:Events for Leamington Yoga Instructors Therapy Classes - The Heart of Yoga
BEGIN:VEVENT
DTSTART;TZID=Europe/London:20220531T070000
DTEND;TZID=Europe/London:20220531T083000
DTSTAMP:20260421T190123
CREATED:20220303T102413Z
LAST-MODIFIED:20220303T102413Z
UID:10927-1653980400-1653985800@leamingtonyogacentre.co.uk
SUMMARY:Morning Yoga Practice
DESCRIPTION:
URL:https://leamingtonyogacentre.co.uk/event/morning-yoga-practice-211/
LOCATION:15 Dormer Place\, Leamington Spa\, Warwickshire\, CV32 5AA\, United Kingdom
END:VEVENT
BEGIN:VEVENT
DTSTART;TZID=Europe/London:20220531T123000
DTEND;TZID=Europe/London:20220531T133000
DTSTAMP:20260421T190123
CREATED:20220303T103502Z
LAST-MODIFIED:20220303T103502Z
UID:10948-1654000200-1654003800@leamingtonyogacentre.co.uk
SUMMARY:Pure Yoga
DESCRIPTION:
URL:https://leamingtonyogacentre.co.uk/event/pure-yoga-121/
LOCATION:15 Dormer Place\, Leamington Spa\, Warwickshire\, CV32 5AA\, United Kingdom
END:VEVENT
BEGIN:VEVENT
DTSTART;TZID=Europe/London:20220531T163000
DTEND;TZID=Europe/London:20220531T173000
DTSTAMP:20260421T190123
CREATED:20220307T100852Z
LAST-MODIFIED:20220307T100852Z
UID:10999-1654014600-1654018200@leamingtonyogacentre.co.uk
SUMMARY:Back Care Yoga
DESCRIPTION:
URL:https://leamingtonyogacentre.co.uk/event/back-care-yoga-499/
LOCATION:15 Dormer Place\, Leamington Spa\, Warwickshire\, CV32 5AA\, United Kingdom
END:VEVENT
BEGIN:VEVENT
DTSTART;TZID=Europe/London:20220531T180000
DTEND;TZID=Europe/London:20220531T190000
DTSTAMP:20260421T190123
CREATED:20220418T091549Z
LAST-MODIFIED:20220418T091549Z
UID:11232-1654020000-1654023600@leamingtonyogacentre.co.uk
SUMMARY:Hatha Hour
DESCRIPTION:
URL:https://leamingtonyogacentre.co.uk/event/hatha-hour-962/
LOCATION:15 Dormer Place\, Leamington Spa\, Warwickshire\, CV32 5AA\, United Kingdom
END:VEVENT
BEGIN:VEVENT
DTSTART;TZID=Europe/London:20220531T193000
DTEND;TZID=Europe/London:20220531T204500
DTSTAMP:20260421T190123
CREATED:20220309T172859Z
LAST-MODIFIED:20220309T172859Z
UID:11072-1654025400-1654029900@leamingtonyogacentre.co.uk
SUMMARY:Dynamic Hatha Yoga
DESCRIPTION:
URL:https://leamingtonyogacentre.co.uk/event/dynamic-hatha-yoga-223/
LOCATION:15 Dormer Place\, Leamington Spa\, Warwickshire\, CV32 5AA\, United Kingdom
END:VEVENT
END:VCALENDAR