BEGIN:VCALENDAR
VERSION:2.0
PRODID:-//Leamington Yoga Instructors Therapy Classes - The Heart of Yoga - ECPv4.5.13//NONSGML v1.0//EN
CALSCALE:GREGORIAN
METHOD:PUBLISH
X-WR-CALNAME:Leamington Yoga Instructors Therapy Classes - The Heart of Yoga
X-ORIGINAL-URL:https://leamingtonyogacentre.co.uk
X-WR-CALDESC:Events for Leamington Yoga Instructors Therapy Classes - The Heart of Yoga
BEGIN:VEVENT
DTSTART;TZID=Europe/London:20220310T120000
DTEND;TZID=Europe/London:20220310T130000
DTSTAMP:20260421T234105
CREATED:20220111T100917Z
LAST-MODIFIED:20220111T100917Z
UID:10628-1646913600-1646917200@leamingtonyogacentre.co.uk
SUMMARY:Pure Yoga
DESCRIPTION:
URL:https://leamingtonyogacentre.co.uk/event/pure-yoga-100/
LOCATION:15 Dormer Place\, Leamington Spa\, Warwickshire\, CV32 5AA\, United Kingdom
END:VEVENT
BEGIN:VEVENT
DTSTART;TZID=Europe/London:20220310T163000
DTEND;TZID=Europe/London:20220310T173000
DTSTAMP:20260421T234105
CREATED:20210913T095848Z
LAST-MODIFIED:20220106T092228Z
UID:9822-1646929800-1646933400@leamingtonyogacentre.co.uk
SUMMARY:Hatha Hour
DESCRIPTION:
URL:https://leamingtonyogacentre.co.uk/event/hatha-hour-806/
LOCATION:15 Dormer Place\, Leamington Spa\, Warwickshire\, CV32 5AA\, United Kingdom
END:VEVENT
BEGIN:VEVENT
DTSTART;TZID=Europe/London:20220310T180000
DTEND;TZID=Europe/London:20220310T191500
DTSTAMP:20260421T234105
CREATED:20220106T123039Z
LAST-MODIFIED:20220106T123039Z
UID:10591-1646935200-1646939700@leamingtonyogacentre.co.uk
SUMMARY:Beginners 2nd Module
DESCRIPTION:
URL:https://leamingtonyogacentre.co.uk/event/beginners-2nd-module-96/
LOCATION:15 Dormer Place\, Leamington Spa\, Warwickshire\, CV32 5AA\, United Kingdom
END:VEVENT
BEGIN:VEVENT
DTSTART;TZID=Europe/London:20220310T193000
DTEND;TZID=Europe/London:20220310T210000
DTSTAMP:20260421T234105
CREATED:20220114T091231Z
LAST-MODIFIED:20220114T091231Z
UID:10698-1646940600-1646946000@leamingtonyogacentre.co.uk
SUMMARY:Dynamic Hatha Yoga
DESCRIPTION:
URL:https://leamingtonyogacentre.co.uk/event/dynamic-hatha-yoga-204/
LOCATION:15 Dormer Place\, Leamington Spa\, Warwickshire\, CV32 5AA\, United Kingdom
END:VEVENT
END:VCALENDAR