BEGIN:VCALENDAR
VERSION:2.0
PRODID:-//Leamington Yoga Instructors Therapy Classes - The Heart of Yoga - ECPv4.5.13//NONSGML v1.0//EN
CALSCALE:GREGORIAN
METHOD:PUBLISH
X-WR-CALNAME:Leamington Yoga Instructors Therapy Classes - The Heart of Yoga
X-ORIGINAL-URL:https://leamingtonyogacentre.co.uk
X-WR-CALDESC:Events for Leamington Yoga Instructors Therapy Classes - The Heart of Yoga
BEGIN:VEVENT
DTSTART;TZID=Europe/London:20220303T120000
DTEND;TZID=Europe/London:20220303T130000
DTSTAMP:20260421T234248
CREATED:20220111T101404Z
LAST-MODIFIED:20220111T101404Z
UID:10635-1646308800-1646312400@leamingtonyogacentre.co.uk
SUMMARY:Pure Yoga
DESCRIPTION:
URL:https://leamingtonyogacentre.co.uk/event/pure-yoga-104/
LOCATION:15 Dormer Place\, Leamington Spa\, Warwickshire\, CV32 5AA\, United Kingdom
END:VEVENT
BEGIN:VEVENT
DTSTART;TZID=Europe/London:20220303T163000
DTEND;TZID=Europe/London:20220303T173000
DTSTAMP:20260421T234248
CREATED:20211231T100117Z
LAST-MODIFIED:20211231T100117Z
UID:10429-1646325000-1646328600@leamingtonyogacentre.co.uk
SUMMARY:Hatha Hour
DESCRIPTION:
URL:https://leamingtonyogacentre.co.uk/event/hatha-hour-886/
LOCATION:15 Dormer Place\, Leamington Spa\, Warwickshire\, CV32 5AA\, United Kingdom
END:VEVENT
BEGIN:VEVENT
DTSTART;TZID=Europe/London:20220303T180000
DTEND;TZID=Europe/London:20220303T191500
DTSTAMP:20260421T234248
CREATED:20220106T123049Z
LAST-MODIFIED:20220106T123049Z
UID:10590-1646330400-1646334900@leamingtonyogacentre.co.uk
SUMMARY:Beginners 2nd Module
DESCRIPTION:
URL:https://leamingtonyogacentre.co.uk/event/beginners-2nd-module-97/
LOCATION:15 Dormer Place\, Leamington Spa\, Warwickshire\, CV32 5AA\, United Kingdom
END:VEVENT
BEGIN:VEVENT
DTSTART;TZID=Europe/London:20220303T193000
DTEND;TZID=Europe/London:20220303T210000
DTSTAMP:20260421T234248
CREATED:20220106T120049Z
LAST-MODIFIED:20220106T120049Z
UID:10573-1646335800-1646341200@leamingtonyogacentre.co.uk
SUMMARY:Dynamic Hatha Yoga
DESCRIPTION:
URL:https://leamingtonyogacentre.co.uk/event/dynamic-hatha-yoga-202/
LOCATION:15 Dormer Place\, Leamington Spa\, Warwickshire\, CV32 5AA\, United Kingdom
END:VEVENT
END:VCALENDAR