BEGIN:VCALENDAR
VERSION:2.0
PRODID:-//Leamington Yoga Instructors Therapy Classes - The Heart of Yoga - ECPv4.5.13//NONSGML v1.0//EN
CALSCALE:GREGORIAN
METHOD:PUBLISH
X-WR-CALNAME:Leamington Yoga Instructors Therapy Classes - The Heart of Yoga
X-ORIGINAL-URL:https://leamingtonyogacentre.co.uk
X-WR-CALDESC:Events for Leamington Yoga Instructors Therapy Classes - The Heart of Yoga
BEGIN:VEVENT
DTSTART;TZID=Europe/London:20220301T070000
DTEND;TZID=Europe/London:20220301T083000
DTSTAMP:20260421T234032
CREATED:20211231T110347Z
LAST-MODIFIED:20211231T110347Z
UID:10502-1646118000-1646123400@leamingtonyogacentre.co.uk
SUMMARY:Morning Yoga Practice
DESCRIPTION:
URL:https://leamingtonyogacentre.co.uk/event/morning-yoga-practice-198/
LOCATION:15 Dormer Place\, Leamington Spa\, Warwickshire\, CV32 5AA\, United Kingdom
END:VEVENT
BEGIN:VEVENT
DTSTART;TZID=Europe/London:20220301T123000
DTEND;TZID=Europe/London:20220301T133000
DTSTAMP:20260421T234032
CREATED:20211228T075800Z
LAST-MODIFIED:20211228T075917Z
UID:10392-1646137800-1646141400@leamingtonyogacentre.co.uk
SUMMARY:Pure Yoga
DESCRIPTION:
URL:https://leamingtonyogacentre.co.uk/event/pure-yoga-88/
LOCATION:15 Dormer Place\, Leamington Spa\, Warwickshire\, CV32 5AA\, United Kingdom
END:VEVENT
BEGIN:VEVENT
DTSTART;TZID=Europe/London:20220301T163000
DTEND;TZID=Europe/London:20220301T173000
DTSTAMP:20260421T234032
CREATED:20211231T103306Z
LAST-MODIFIED:20211231T103306Z
UID:10457-1646152200-1646155800@leamingtonyogacentre.co.uk
SUMMARY:Back Care Yoga
DESCRIPTION:
URL:https://leamingtonyogacentre.co.uk/event/back-care-yoga-458/
LOCATION:15 Dormer Place\, Leamington Spa\, Warwickshire\, CV32 5AA\, United Kingdom
END:VEVENT
BEGIN:VEVENT
DTSTART;TZID=Europe/London:20220301T180000
DTEND;TZID=Europe/London:20220301T190000
DTSTAMP:20260421T234032
CREATED:20211231T100246Z
LAST-MODIFIED:20211231T102908Z
UID:10433-1646157600-1646161200@leamingtonyogacentre.co.uk
SUMMARY:Hatha Hour
DESCRIPTION:
URL:https://leamingtonyogacentre.co.uk/event/hatha-hour-887/
LOCATION:15 Dormer Place\, Leamington Spa\, Warwickshire\, CV32 5AA\, United Kingdom
END:VEVENT
BEGIN:VEVENT
DTSTART;TZID=Europe/London:20220301T193000
DTEND;TZID=Europe/London:20220301T204500
DTSTAMP:20260421T234032
CREATED:20220106T091110Z
LAST-MODIFIED:20220106T091342Z
UID:10551-1646163000-1646167500@leamingtonyogacentre.co.uk
SUMMARY:Dynamic Hatha Yoga
DESCRIPTION:
URL:https://leamingtonyogacentre.co.uk/event/dynamic-hatha-yoga-196/
LOCATION:15 Dormer Place\, Leamington Spa\, Warwickshire\, CV32 5AA\, United Kingdom
END:VEVENT
END:VCALENDAR