BEGIN:VCALENDAR
VERSION:2.0
PRODID:-//Leamington Yoga Instructors Therapy Classes - The Heart of Yoga - ECPv4.5.13//NONSGML v1.0//EN
CALSCALE:GREGORIAN
METHOD:PUBLISH
X-WR-CALNAME:Leamington Yoga Instructors Therapy Classes - The Heart of Yoga
X-ORIGINAL-URL:https://leamingtonyogacentre.co.uk
X-WR-CALDESC:Events for Leamington Yoga Instructors Therapy Classes - The Heart of Yoga
BEGIN:VEVENT
DTSTART;TZID=Europe/London:20220221T103000
DTEND;TZID=Europe/London:20220221T113000
DTSTAMP:20260422T025847
CREATED:20211231T094432Z
LAST-MODIFIED:20211231T094432Z
UID:10406-1645439400-1645443000@leamingtonyogacentre.co.uk
SUMMARY:Hatha Hour
DESCRIPTION:
URL:https://leamingtonyogacentre.co.uk/event/hatha-hour-875/
LOCATION:15 Dormer Place\, Leamington Spa\, Warwickshire\, CV32 5AA\, United Kingdom
END:VEVENT
BEGIN:VEVENT
DTSTART;TZID=Europe/London:20220221T183000
DTEND;TZID=Europe/London:20220221T193000
DTSTAMP:20260422T025847
CREATED:20211231T094421Z
LAST-MODIFIED:20211231T094421Z
UID:10407-1645468200-1645471800@leamingtonyogacentre.co.uk
SUMMARY:Hatha Hour
DESCRIPTION:
URL:https://leamingtonyogacentre.co.uk/event/hatha-hour-874/
LOCATION:15 Dormer Place\, Leamington Spa\, Warwickshire\, CV32 5AA\, United Kingdom
END:VEVENT
BEGIN:VEVENT
DTSTART;TZID=Europe/London:20220221T193000
DTEND;TZID=Europe/London:20220221T210000
DTSTAMP:20260422T025847
CREATED:20211228T074958Z
LAST-MODIFIED:20211228T074958Z
UID:10383-1645471800-1645477200@leamingtonyogacentre.co.uk
SUMMARY:Dynamic Vinyasa
DESCRIPTION:
URL:https://leamingtonyogacentre.co.uk/event/dynamic-vinyasa-246/
LOCATION:15 Dormer Place\, Leamington Spa\, Warwickshire\, CV32 5AA\, United Kingdom
END:VEVENT
END:VCALENDAR