BEGIN:VCALENDAR
VERSION:2.0
PRODID:-//Leamington Yoga Instructors Therapy Classes - The Heart of Yoga - ECPv4.5.13//NONSGML v1.0//EN
CALSCALE:GREGORIAN
METHOD:PUBLISH
X-WR-CALNAME:Leamington Yoga Instructors Therapy Classes - The Heart of Yoga
X-ORIGINAL-URL:https://leamingtonyogacentre.co.uk
X-WR-CALDESC:Events for Leamington Yoga Instructors Therapy Classes - The Heart of Yoga
BEGIN:VEVENT
DTSTART;TZID=Europe/London:20220219T070000
DTEND;TZID=Europe/London:20220219T083000
DTSTAMP:20260422T012253
CREATED:20220106T084641Z
LAST-MODIFIED:20220106T084641Z
UID:10510-1645254000-1645259400@leamingtonyogacentre.co.uk
SUMMARY:Yoga Mash Up (Special Batch)
DESCRIPTION:
URL:https://leamingtonyogacentre.co.uk/event/yoga-mash-up-special-batch-169/
LOCATION:15 Dormer Place\, Leamington Spa\, Warwickshire\, CV32 5AA\, United Kingdom
END:VEVENT
BEGIN:VEVENT
DTSTART;TZID=Europe/London:20220219T090000
DTEND;TZID=Europe/London:20220219T103000
DTSTAMP:20260422T012253
CREATED:20211231T105457Z
LAST-MODIFIED:20211231T105457Z
UID:10486-1645261200-1645266600@leamingtonyogacentre.co.uk
SUMMARY:Andiappan Yoga
DESCRIPTION:
URL:https://leamingtonyogacentre.co.uk/event/andiappan-yoga-622/
LOCATION:15 Dormer Place\, Leamington Spa\, Warwickshire\, CV32 5AA\, United Kingdom
END:VEVENT
BEGIN:VEVENT
DTSTART;TZID=Europe/London:20220219T110000
DTEND;TZID=Europe/London:20220219T120000
DTSTAMP:20260422T012253
CREATED:20211231T094916Z
LAST-MODIFIED:20211231T094916Z
UID:10414-1645268400-1645272000@leamingtonyogacentre.co.uk
SUMMARY:Hatha Hour
DESCRIPTION:
URL:https://leamingtonyogacentre.co.uk/event/hatha-hour-878/
LOCATION:15 Dormer Place\, Leamington Spa\, Warwickshire\, CV32 5AA\, United Kingdom
END:VEVENT
BEGIN:VEVENT
DTSTART;TZID=Europe/London:20220219T123000
DTEND;TZID=Europe/London:20220219T133000
DTSTAMP:20260422T012253
CREATED:20211231T104010Z
LAST-MODIFIED:20211231T104010Z
UID:10470-1645273800-1645277400@leamingtonyogacentre.co.uk
SUMMARY:Back Care Yoga
DESCRIPTION:
URL:https://leamingtonyogacentre.co.uk/event/back-care-yoga-460/
LOCATION:15 Dormer Place\, Leamington Spa\, Warwickshire\, CV32 5AA\, United Kingdom
END:VEVENT
END:VCALENDAR