BEGIN:VCALENDAR
VERSION:2.0
PRODID:-//Leamington Yoga Instructors Therapy Classes - The Heart of Yoga - ECPv4.5.13//NONSGML v1.0//EN
CALSCALE:GREGORIAN
METHOD:PUBLISH
X-WR-CALNAME:Leamington Yoga Instructors Therapy Classes - The Heart of Yoga
X-ORIGINAL-URL:https://leamingtonyogacentre.co.uk
X-WR-CALDESC:Events for Leamington Yoga Instructors Therapy Classes - The Heart of Yoga
BEGIN:VEVENT
DTSTART;TZID=Europe/London:20220125T070000
DTEND;TZID=Europe/London:20220125T083000
DTSTAMP:20260422T025940
CREATED:20211103T191558Z
LAST-MODIFIED:20211103T191558Z
UID:10324-1643094000-1643099400@leamingtonyogacentre.co.uk
SUMMARY:Morning Yoga Practice
DESCRIPTION:
URL:https://leamingtonyogacentre.co.uk/event/morning-yoga-practice-195/
LOCATION:15 Dormer Place\, Leamington Spa\, Warwickshire\, CV32 5AA\, United Kingdom
END:VEVENT
BEGIN:VEVENT
DTSTART;TZID=Europe/London:20220125T123000
DTEND;TZID=Europe/London:20220125T133000
DTSTAMP:20260422T025940
CREATED:20211011T091627Z
LAST-MODIFIED:20211011T091627Z
UID:10183-1643113800-1643117400@leamingtonyogacentre.co.uk
SUMMARY:Pure Yoga
DESCRIPTION:
URL:https://leamingtonyogacentre.co.uk/event/pure-yoga-84/
LOCATION:15 Dormer Place\, Leamington Spa\, Warwickshire\, CV32 5AA\, United Kingdom
END:VEVENT
BEGIN:VEVENT
DTSTART;TZID=Europe/London:20220125T163000
DTEND;TZID=Europe/London:20220125T173000
DTSTAMP:20260422T025940
CREATED:20211011T092515Z
LAST-MODIFIED:20211103T073832Z
UID:10191-1643128200-1643131800@leamingtonyogacentre.co.uk
SUMMARY:Back Care Yoga
DESCRIPTION:
URL:https://leamingtonyogacentre.co.uk/event/back-care-yoga-444/
LOCATION:15 Dormer Place\, Leamington Spa\, Warwickshire\, CV32 5AA\, United Kingdom
END:VEVENT
BEGIN:VEVENT
DTSTART;TZID=Europe/London:20220125T180000
DTEND;TZID=Europe/London:20220125T190000
DTSTAMP:20260422T025940
CREATED:20211011T093340Z
LAST-MODIFIED:20211011T093340Z
UID:10201-1643133600-1643137200@leamingtonyogacentre.co.uk
SUMMARY:Hatha Hour
DESCRIPTION:
URL:https://leamingtonyogacentre.co.uk/event/hatha-hour-855/
LOCATION:15 Dormer Place\, Leamington Spa\, Warwickshire\, CV32 5AA\, United Kingdom
END:VEVENT
BEGIN:VEVENT
DTSTART;TZID=Europe/London:20220125T193000
DTEND;TZID=Europe/London:20220125T204500
DTSTAMP:20260422T025940
CREATED:20211017T141248Z
LAST-MODIFIED:20211017T141248Z
UID:10233-1643139000-1643143500@leamingtonyogacentre.co.uk
SUMMARY:Dynamic Hatha Yoga
DESCRIPTION:
URL:https://leamingtonyogacentre.co.uk/event/dynamic-hatha-yoga-185/
LOCATION:15 Dormer Place\, Leamington Spa\, Warwickshire\, CV32 5AA\, United Kingdom
END:VEVENT
END:VCALENDAR