BEGIN:VCALENDAR
VERSION:2.0
PRODID:-//Leamington Yoga Instructors Therapy Classes - The Heart of Yoga - ECPv4.5.13//NONSGML v1.0//EN
CALSCALE:GREGORIAN
METHOD:PUBLISH
X-WR-CALNAME:Leamington Yoga Instructors Therapy Classes - The Heart of Yoga
X-ORIGINAL-URL:https://leamingtonyogacentre.co.uk
X-WR-CALDESC:Events for Leamington Yoga Instructors Therapy Classes - The Heart of Yoga
BEGIN:VEVENT
DTSTART;TZID=Europe/London:20220113T120000
DTEND;TZID=Europe/London:20220113T130000
DTSTAMP:20260422T030236
CREATED:20211006T162309Z
LAST-MODIFIED:20211006T162309Z
UID:10171-1642075200-1642078800@leamingtonyogacentre.co.uk
SUMMARY:Pure Yoga
DESCRIPTION:
URL:https://leamingtonyogacentre.co.uk/event/pure-yoga-79/
LOCATION:15 Dormer Place\, Leamington Spa\, Warwickshire\, CV32 5AA\, United Kingdom
END:VEVENT
BEGIN:VEVENT
DTSTART;TZID=Europe/London:20220113T163000
DTEND;TZID=Europe/London:20220113T173000
DTSTAMP:20260422T030237
CREATED:20210705T072157Z
LAST-MODIFIED:20210929T080430Z
UID:9387-1642091400-1642095000@leamingtonyogacentre.co.uk
SUMMARY:Hatha Hour
DESCRIPTION:
URL:https://leamingtonyogacentre.co.uk/event/hatha-hour-756/
LOCATION:15 Dormer Place\, Leamington Spa\, Warwickshire\, CV32 5AA\, United Kingdom
END:VEVENT
BEGIN:VEVENT
DTSTART;TZID=Europe/London:20220113T180000
DTEND;TZID=Europe/London:20220113T191500
DTSTAMP:20260422T030237
CREATED:20201123T102255Z
LAST-MODIFIED:20210929T144941Z
UID:8835-1642096800-1642101300@leamingtonyogacentre.co.uk
SUMMARY:Beginners Yoga Course  A
DESCRIPTION:
URL:https://leamingtonyogacentre.co.uk/event/beginners-yoga-course-a-23/
LOCATION:15 Dormer Place\, Leamington Spa\, Warwickshire\, CV32 5AA\, United Kingdom
END:VEVENT
BEGIN:VEVENT
DTSTART;TZID=Europe/London:20220113T180000
DTEND;TZID=Europe/London:20220113T191500
DTSTAMP:20260422T030237
CREATED:20220113T094920Z
LAST-MODIFIED:20220113T094920Z
UID:10645-1642096800-1642101300@leamingtonyogacentre.co.uk
SUMMARY:Beginners Yoga Course  B
DESCRIPTION:
URL:https://leamingtonyogacentre.co.uk/event/beginners-yoga-course-b-38/
LOCATION:15 Dormer Place\, Leamington Spa\, Warwickshire\, CV32 5AA\, United Kingdom
END:VEVENT
BEGIN:VEVENT
DTSTART;TZID=Europe/London:20220113T193000
DTEND;TZID=Europe/London:20220113T210000
DTSTAMP:20260422T030237
CREATED:20211108T103914Z
LAST-MODIFIED:20211108T103914Z
UID:10332-1642102200-1642107600@leamingtonyogacentre.co.uk
SUMMARY:Dynamic Hatha Yoga
DESCRIPTION:
URL:https://leamingtonyogacentre.co.uk/event/dynamic-hatha-yoga-188/
LOCATION:15 Dormer Place\, Leamington Spa\, Warwickshire\, CV32 5AA\, United Kingdom
END:VEVENT
END:VCALENDAR