BEGIN:VCALENDAR
VERSION:2.0
PRODID:-//Leamington Yoga Instructors Therapy Classes - The Heart of Yoga - ECPv4.5.13//NONSGML v1.0//EN
CALSCALE:GREGORIAN
METHOD:PUBLISH
X-WR-CALNAME:Leamington Yoga Instructors Therapy Classes - The Heart of Yoga
X-ORIGINAL-URL:https://leamingtonyogacentre.co.uk
X-WR-CALDESC:Events for Leamington Yoga Instructors Therapy Classes - The Heart of Yoga
BEGIN:VEVENT
DTSTART;TZID=Europe/London:20220110T103000
DTEND;TZID=Europe/London:20220110T113000
DTSTAMP:20260422T043429
CREATED:20211013T075137Z
LAST-MODIFIED:20211013T075137Z
UID:10212-1641810600-1641814200@leamingtonyogacentre.co.uk
SUMMARY:Hatha Hour
DESCRIPTION:
URL:https://leamingtonyogacentre.co.uk/event/hatha-hour-860/
LOCATION:15 Dormer Place\, Leamington Spa\, Warwickshire\, CV32 5AA\, United Kingdom
END:VEVENT
BEGIN:VEVENT
DTSTART;TZID=Europe/London:20220110T180000
DTEND;TZID=Europe/London:20220110T190000
DTSTAMP:20260422T043429
CREATED:20210704T190332Z
LAST-MODIFIED:20210929T080320Z
UID:9371-1641837600-1641841200@leamingtonyogacentre.co.uk
SUMMARY:Hatha Hour
DESCRIPTION:
URL:https://leamingtonyogacentre.co.uk/event/hatha-hour-747/
LOCATION:15 Dormer Place\, Leamington Spa\, Warwickshire\, CV32 5AA\, United Kingdom
END:VEVENT
BEGIN:VEVENT
DTSTART;TZID=Europe/London:20220110T193000
DTEND;TZID=Europe/London:20220110T210000
DTSTAMP:20260422T043429
CREATED:20211006T160717Z
LAST-MODIFIED:20211006T160717Z
UID:10144-1641843000-1641848400@leamingtonyogacentre.co.uk
SUMMARY:Dynamic Vinyasa
DESCRIPTION:
URL:https://leamingtonyogacentre.co.uk/event/dynamic-vinyasa-240/
LOCATION:15 Dormer Place\, Leamington Spa\, Warwickshire\, CV32 5AA\, United Kingdom
END:VEVENT
END:VCALENDAR