BEGIN:VCALENDAR
VERSION:2.0
PRODID:-//Leamington Yoga Instructors Therapy Classes - The Heart of Yoga - ECPv4.5.13//NONSGML v1.0//EN
CALSCALE:GREGORIAN
METHOD:PUBLISH
X-WR-CALNAME:Leamington Yoga Instructors Therapy Classes - The Heart of Yoga
X-ORIGINAL-URL:https://leamingtonyogacentre.co.uk
X-WR-CALDESC:Events for Leamington Yoga Instructors Therapy Classes - The Heart of Yoga
BEGIN:VEVENT
DTSTART;TZID=Europe/London:20220106T120000
DTEND;TZID=Europe/London:20220106T130000
DTSTAMP:20260422T025934
CREATED:20211006T162321Z
LAST-MODIFIED:20211006T162321Z
UID:10170-1641470400-1641474000@leamingtonyogacentre.co.uk
SUMMARY:Pure Yoga
DESCRIPTION:
URL:https://leamingtonyogacentre.co.uk/event/pure-yoga-80/
LOCATION:15 Dormer Place\, Leamington Spa\, Warwickshire\, CV32 5AA\, United Kingdom
END:VEVENT
BEGIN:VEVENT
DTSTART;TZID=Europe/London:20220106T163000
DTEND;TZID=Europe/London:20220106T173000
DTSTAMP:20260422T025934
CREATED:20210704T191032Z
LAST-MODIFIED:20210929T075956Z
UID:9380-1641486600-1641490200@leamingtonyogacentre.co.uk
SUMMARY:Hatha Hour
DESCRIPTION:
URL:https://leamingtonyogacentre.co.uk/event/hatha-hour-752/
LOCATION:15 Dormer Place\, Leamington Spa\, Warwickshire\, CV32 5AA\, United Kingdom
END:VEVENT
BEGIN:VEVENT
DTSTART;TZID=Europe/London:20220106T180000
DTEND;TZID=Europe/London:20220106T191500
DTSTAMP:20260422T025934
CREATED:20201123T102121Z
LAST-MODIFIED:20220106T122143Z
UID:8833-1641492000-1641496500@leamingtonyogacentre.co.uk
SUMMARY:Beginners Yoga Course A
DESCRIPTION:
URL:https://leamingtonyogacentre.co.uk/event/beginners-yoga-course-a-22/
LOCATION:15 Dormer Place\, Leamington Spa\, Warwickshire\, CV32 5AA\, United Kingdom
END:VEVENT
BEGIN:VEVENT
DTSTART;TZID=Europe/London:20220106T193000
DTEND;TZID=Europe/London:20220106T204500
DTSTAMP:20260422T025934
CREATED:20211017T141542Z
LAST-MODIFIED:20211017T141542Z
UID:10239-1641497400-1641501900@leamingtonyogacentre.co.uk
SUMMARY:Dynamic Hatha Yoga
DESCRIPTION:
URL:https://leamingtonyogacentre.co.uk/event/dynamic-hatha-yoga-187/
LOCATION:15 Dormer Place\, Leamington Spa\, Warwickshire\, CV32 5AA\, United Kingdom
END:VEVENT
END:VCALENDAR