BEGIN:VCALENDAR
VERSION:2.0
PRODID:-//Leamington Yoga Instructors Therapy Classes - The Heart of Yoga - ECPv4.5.13//NONSGML v1.0//EN
CALSCALE:GREGORIAN
METHOD:PUBLISH
X-WR-CALNAME:Leamington Yoga Instructors Therapy Classes - The Heart of Yoga
X-ORIGINAL-URL:https://leamingtonyogacentre.co.uk
X-WR-CALDESC:Events for Leamington Yoga Instructors Therapy Classes - The Heart of Yoga
BEGIN:VEVENT
DTSTART;TZID=Europe/London:20211230T120000
DTEND;TZID=Europe/London:20211230T130000
DTSTAMP:20260422T025800
CREATED:20211006T162100Z
LAST-MODIFIED:20211006T162100Z
UID:10166-1640865600-1640869200@leamingtonyogacentre.co.uk
SUMMARY:Pure Yoga
DESCRIPTION:
URL:https://leamingtonyogacentre.co.uk/event/pure-yoga-78/
LOCATION:15 Dormer Place\, Leamington Spa\, Warwickshire\, CV32 5AA\, United Kingdom
END:VEVENT
BEGIN:VEVENT
DTSTART;TZID=Europe/London:20211230T163000
DTEND;TZID=Europe/London:20211230T173000
DTSTAMP:20260422T025800
CREATED:20210922T065302Z
LAST-MODIFIED:20210929T143641Z
UID:9897-1640881800-1640885400@leamingtonyogacentre.co.uk
SUMMARY:Hatha Hour
DESCRIPTION:
URL:https://leamingtonyogacentre.co.uk/event/hatha-hour-824/
LOCATION:15 Dormer Place\, Leamington Spa\, Warwickshire\, CV32 5AA\, United Kingdom
END:VEVENT
BEGIN:VEVENT
DTSTART;TZID=Europe/London:20211230T180000
DTEND;TZID=Europe/London:20211230T190000
DTSTAMP:20260422T025800
CREATED:20211103T074422Z
LAST-MODIFIED:20211103T074422Z
UID:10314-1640887200-1640890800@leamingtonyogacentre.co.uk
SUMMARY:Hatha Hour
DESCRIPTION:
URL:https://leamingtonyogacentre.co.uk/event/hatha-hour-872/
LOCATION:15 Dormer Place\, Leamington Spa\, Warwickshire\, CV32 5AA\, United Kingdom
END:VEVENT
BEGIN:VEVENT
DTSTART;TZID=Europe/London:20211230T193000
DTEND;TZID=Europe/London:20211230T204500
DTSTAMP:20260422T025800
CREATED:20211004T100626Z
LAST-MODIFIED:20211004T100626Z
UID:10083-1640892600-1640897100@leamingtonyogacentre.co.uk
SUMMARY:Dynamic Hatha Yoga
DESCRIPTION:
URL:https://leamingtonyogacentre.co.uk/event/dynamic-hatha-yoga-179/
LOCATION:15 Dormer Place\, Leamington Spa\, Warwickshire\, CV32 5AA\, United Kingdom
END:VEVENT
END:VCALENDAR