BEGIN:VCALENDAR
VERSION:2.0
PRODID:-//Leamington Yoga Instructors Therapy Classes - The Heart of Yoga - ECPv4.5.13//NONSGML v1.0//EN
CALSCALE:GREGORIAN
METHOD:PUBLISH
X-WR-CALNAME:Leamington Yoga Instructors Therapy Classes - The Heart of Yoga
X-ORIGINAL-URL:https://leamingtonyogacentre.co.uk
X-WR-CALDESC:Events for Leamington Yoga Instructors Therapy Classes - The Heart of Yoga
BEGIN:VEVENT
DTSTART;TZID=Europe/London:20211208T164500
DTEND;TZID=Europe/London:20211208T174500
DTSTAMP:20260422T061927
CREATED:20211129T104119Z
LAST-MODIFIED:20211129T112546Z
UID:10358-1638981900-1638985500@leamingtonyogacentre.co.uk
SUMMARY:Yin Yoga
DESCRIPTION:
URL:https://leamingtonyogacentre.co.uk/event/yin-yoga-227/
LOCATION:15 Dormer Place\, Leamington Spa\, Warwickshire\, CV32 5AA\, United Kingdom
END:VEVENT
BEGIN:VEVENT
DTSTART;TZID=Europe/London:20211208T180000
DTEND;TZID=Europe/London:20211208T191500
DTSTAMP:20260422T061927
CREATED:20210929T065927Z
LAST-MODIFIED:20210929T065927Z
UID:10014-1638986400-1638990900@leamingtonyogacentre.co.uk
SUMMARY:Beginners 2nd Module
DESCRIPTION:
URL:https://leamingtonyogacentre.co.uk/event/beginners-2nd-module-91/
LOCATION:15 Dormer Place\, Leamington Spa\, Warwickshire\, CV32 5AA\, United Kingdom
END:VEVENT
BEGIN:VEVENT
DTSTART;TZID=Europe/London:20211208T193000
DTEND;TZID=Europe/London:20211208T210000
DTSTAMP:20260422T061927
CREATED:20211006T154306Z
LAST-MODIFIED:20211006T154306Z
UID:10109-1638991800-1638997200@leamingtonyogacentre.co.uk
SUMMARY:Andiappan Yoga
DESCRIPTION:
URL:https://leamingtonyogacentre.co.uk/event/andiappan-yoga-605/
LOCATION:15 Dormer Place\, Leamington Spa\, Warwickshire\, CV32 5AA\, United Kingdom
END:VEVENT
END:VCALENDAR