BEGIN:VCALENDAR
VERSION:2.0
PRODID:-//Leamington Yoga Instructors Therapy Classes - The Heart of Yoga - ECPv4.5.13//NONSGML v1.0//EN
CALSCALE:GREGORIAN
METHOD:PUBLISH
X-WR-CALNAME:Leamington Yoga Instructors Therapy Classes - The Heart of Yoga
X-ORIGINAL-URL:https://leamingtonyogacentre.co.uk
X-WR-CALDESC:Events for Leamington Yoga Instructors Therapy Classes - The Heart of Yoga
BEGIN:VEVENT
DTSTART;TZID=Europe/London:20211204T070000
DTEND;TZID=Europe/London:20211204T083000
DTSTAMP:20260422T043151
CREATED:20210927T074736Z
LAST-MODIFIED:20210927T074736Z
UID:9945-1638601200-1638606600@leamingtonyogacentre.co.uk
SUMMARY:Yoga Mash Up (Special Batch)
DESCRIPTION:
URL:https://leamingtonyogacentre.co.uk/event/yoga-mash-up-special-batch-159/
LOCATION:15 Dormer Place\, Leamington Spa\, Warwickshire\, CV32 5AA\, United Kingdom
END:VEVENT
BEGIN:VEVENT
DTSTART;TZID=Europe/London:20211204T090000
DTEND;TZID=Europe/London:20211204T103000
DTSTAMP:20260422T043151
CREATED:20210927T075639Z
LAST-MODIFIED:20210927T075639Z
UID:9962-1638608400-1638613800@leamingtonyogacentre.co.uk
SUMMARY:Andiappan Yoga
DESCRIPTION:
URL:https://leamingtonyogacentre.co.uk/event/andiappan-yoga-602/
LOCATION:15 Dormer Place\, Leamington Spa\, Warwickshire\, CV32 5AA\, United Kingdom
END:VEVENT
BEGIN:VEVENT
DTSTART;TZID=Europe/London:20211204T113000
DTEND;TZID=Europe/London:20211204T123000
DTSTAMP:20260422T043151
CREATED:20210908T074227Z
LAST-MODIFIED:20210915T073219Z
UID:9773-1638617400-1638621000@leamingtonyogacentre.co.uk
SUMMARY:Hatha Hour
DESCRIPTION:
URL:https://leamingtonyogacentre.co.uk/event/hatha-hour-794/
LOCATION:15 Dormer Place\, Leamington Spa\, Warwickshire\, CV32 5AA\, United Kingdom
END:VEVENT
BEGIN:VEVENT
DTSTART;TZID=Europe/London:20211204T123000
DTEND;TZID=Europe/London:20211204T133000
DTSTAMP:20260422T043151
CREATED:20210924T082156Z
LAST-MODIFIED:20210924T082156Z
UID:9936-1638621000-1638624600@leamingtonyogacentre.co.uk
SUMMARY:Back Care Yoga
DESCRIPTION:
URL:https://leamingtonyogacentre.co.uk/event/back-care-yoga-429/
LOCATION:15 Dormer Place\, Leamington Spa\, Warwickshire\, CV32 5AA\, United Kingdom
END:VEVENT
END:VCALENDAR